BEGIN:VCALENDAR
VERSION:2.0
PRODID:-//Consejo Consultivo de Andalucía - ECPv6.15.20//NONSGML v1.0//EN
CALSCALE:GREGORIAN
METHOD:PUBLISH
X-ORIGINAL-URL:https://consejoconsultivodeandalucia.es
X-WR-CALDESC:Eventos para Consejo Consultivo de Andalucía
REFRESH-INTERVAL;VALUE=DURATION:PT1H
X-Robots-Tag:noindex
X-PUBLISHED-TTL:PT1H
BEGIN:VTIMEZONE
TZID:Europe/Madrid
BEGIN:DAYLIGHT
TZOFFSETFROM:+0100
TZOFFSETTO:+0200
TZNAME:CEST
DTSTART:20240331T010000
END:DAYLIGHT
BEGIN:STANDARD
TZOFFSETFROM:+0200
TZOFFSETTO:+0100
TZNAME:CET
DTSTART:20241027T010000
END:STANDARD
BEGIN:DAYLIGHT
TZOFFSETFROM:+0100
TZOFFSETTO:+0200
TZNAME:CEST
DTSTART:20250330T010000
END:DAYLIGHT
BEGIN:STANDARD
TZOFFSETFROM:+0200
TZOFFSETTO:+0100
TZNAME:CET
DTSTART:20251026T010000
END:STANDARD
BEGIN:DAYLIGHT
TZOFFSETFROM:+0100
TZOFFSETTO:+0200
TZNAME:CEST
DTSTART:20260329T010000
END:DAYLIGHT
BEGIN:STANDARD
TZOFFSETFROM:+0200
TZOFFSETTO:+0100
TZNAME:CET
DTSTART:20261025T010000
END:STANDARD
END:VTIMEZONE
BEGIN:VEVENT
DTSTART;TZID=Europe/Madrid:20251204T103000
DTEND;TZID=Europe/Madrid:20251204T143000
DTSTAMP:20260424T015530
CREATED:20251119T123634Z
LAST-MODIFIED:20251119T123634Z
UID:25650-1764844200-1764858600@consejoconsultivodeandalucia.es
SUMMARY:Comisión permanente
DESCRIPTION:
URL:https://consejoconsultivodeandalucia.es/event/comision-permanente-93/
LOCATION:Sede del Consejo Consultivo de Andalucía\, Consejo Consultivo de Andalucía\, Granada\, Granada\, 18009\, España
CATEGORIES:Comisión Permanente
END:VEVENT
BEGIN:VEVENT
DTSTART;TZID=Europe/Madrid:20251215T120000
DTEND;TZID=Europe/Madrid:20251215T140000
DTSTAMP:20260424T015530
CREATED:20251216T134356Z
LAST-MODIFIED:20251216T134356Z
UID:25788-1765800000-1765807200@consejoconsultivodeandalucia.es
SUMMARY:Premios Canal Sur 'Estrellas de Andalucía. Estrellas de Navidad'
DESCRIPTION:La presidenta del Consejo Consultivo de Andalucía\, María Jesús Gallardo Castillo\, asiste a la entrega de premios de Canal Sur Radio y Televisión ‘Estrellas de Andalucía. Estrellas de Navidad’.
URL:https://consejoconsultivodeandalucia.es/event/premios-canal-sur-estrellas-de-andalucia-estrellas-de-navidad/
LOCATION:Teatro La Chumbera
CATEGORIES:Actos Institucionales
END:VEVENT
BEGIN:VEVENT
DTSTART;TZID=Europe/Madrid:20251215T193000
DTEND;TZID=Europe/Madrid:20251215T220000
DTSTAMP:20260424T015530
CREATED:20251216T134026Z
LAST-MODIFIED:20251216T134026Z
UID:25785-1765827000-1765836000@consejoconsultivodeandalucia.es
SUMMARY:Premios Ideales 2025
DESCRIPTION:La presidenta del Consejo Consultivo asiste a los premios Ideales 2025
URL:https://consejoconsultivodeandalucia.es/event/premios-ideales-2025/
LOCATION:Palacio de Congresos
CATEGORIES:Actos Institucionales
END:VEVENT
BEGIN:VEVENT
DTSTART;TZID=Europe/Madrid:20251219T103000
DTEND;TZID=Europe/Madrid:20251219T143000
DTSTAMP:20260424T015530
CREATED:20251128T095720Z
LAST-MODIFIED:20251216T133758Z
UID:25696-1766140200-1766154600@consejoconsultivodeandalucia.es
SUMMARY:Comisión permanente
DESCRIPTION:
URL:https://consejoconsultivodeandalucia.es/event/comision-permanente-94/
LOCATION:Sede del Consejo Consultivo de Andalucía\, Consejo Consultivo de Andalucía\, Granada\, Granada\, 18009\, España
CATEGORIES:Comisión Permanente
END:VEVENT
END:VCALENDAR