BEGIN:VCALENDAR
VERSION:2.0
PRODID:-//Consejo Consultivo de Andalucía - ECPv6.15.20//NONSGML v1.0//EN
CALSCALE:GREGORIAN
METHOD:PUBLISH
X-ORIGINAL-URL:https://consejoconsultivodeandalucia.es
X-WR-CALDESC:Eventos para Consejo Consultivo de Andalucía
REFRESH-INTERVAL;VALUE=DURATION:PT1H
X-Robots-Tag:noindex
X-PUBLISHED-TTL:PT1H
BEGIN:VTIMEZONE
TZID:Europe/Madrid
BEGIN:DAYLIGHT
TZOFFSETFROM:+0100
TZOFFSETTO:+0200
TZNAME:CEST
DTSTART:20240331T010000
END:DAYLIGHT
BEGIN:STANDARD
TZOFFSETFROM:+0200
TZOFFSETTO:+0100
TZNAME:CET
DTSTART:20241027T010000
END:STANDARD
BEGIN:DAYLIGHT
TZOFFSETFROM:+0100
TZOFFSETTO:+0200
TZNAME:CEST
DTSTART:20250330T010000
END:DAYLIGHT
BEGIN:STANDARD
TZOFFSETFROM:+0200
TZOFFSETTO:+0100
TZNAME:CET
DTSTART:20251026T010000
END:STANDARD
BEGIN:DAYLIGHT
TZOFFSETFROM:+0100
TZOFFSETTO:+0200
TZNAME:CEST
DTSTART:20260329T010000
END:DAYLIGHT
BEGIN:STANDARD
TZOFFSETFROM:+0200
TZOFFSETTO:+0100
TZNAME:CET
DTSTART:20261025T010000
END:STANDARD
END:VTIMEZONE
BEGIN:VEVENT
DTSTART;TZID=Europe/Madrid:20250911T100000
DTEND;TZID=Europe/Madrid:20250911T140000
DTSTAMP:20260424T063632
CREATED:20251119T111039Z
LAST-MODIFIED:20251119T111039Z
UID:25192-1757584800-1757599200@consejoconsultivodeandalucia.es
SUMMARY:Comisión permanente
DESCRIPTION:
URL:https://consejoconsultivodeandalucia.es/event/comision-permanente-87/
LOCATION:Sede del Consejo Consultivo de Andalucía\, Consejo Consultivo de Andalucía\, Granada\, Granada\, 18009\, España
CATEGORIES:Comisión Permanente
END:VEVENT
BEGIN:VEVENT
DTSTART;TZID=Europe/Madrid:20250916T200000
DTEND;TZID=Europe/Madrid:20250916T210000
DTSTAMP:20260424T063632
CREATED:20251119T111039Z
LAST-MODIFIED:20251119T111039Z
UID:25213-1758052800-1758056400@consejoconsultivodeandalucia.es
SUMMARY:Apertura del año judicial en Andalucía
DESCRIPTION:La presidenta del Consejo Consultivo asiste al acto de apertura del año judicial en Andalucía en la sede del TSJA.
URL:https://consejoconsultivodeandalucia.es/event/apertura-del-ano-judicial-en-andalucia/
LOCATION:Real Chancillería de Granada
CATEGORIES:Actos Institucionales
END:VEVENT
BEGIN:VEVENT
DTSTART;TZID=Europe/Madrid:20250918T110000
DTEND;TZID=Europe/Madrid:20250918T140000
DTSTAMP:20260424T063632
CREATED:20251119T111039Z
LAST-MODIFIED:20251119T111039Z
UID:25194-1758193200-1758204000@consejoconsultivodeandalucia.es
SUMMARY:Pleno
DESCRIPTION:
URL:https://consejoconsultivodeandalucia.es/event/pleno-12/
LOCATION:Sede del Consejo Consultivo de Andalucía\, Consejo Consultivo de Andalucía\, Granada\, Granada\, 18009\, España
CATEGORIES:Pleno
END:VEVENT
BEGIN:VEVENT
DTSTART;TZID=Europe/Madrid:20250924T170000
DTEND;TZID=Europe/Madrid:20250924T210000
DTSTAMP:20260424T063632
CREATED:20251119T111039Z
LAST-MODIFIED:20251119T111039Z
UID:25262-1758733200-1758747600@consejoconsultivodeandalucia.es
SUMMARY:Comisión permanente
DESCRIPTION:
URL:https://consejoconsultivodeandalucia.es/event/comision-permanente-88/
LOCATION:Sede del Consejo Consultivo de Andalucía\, Consejo Consultivo de Andalucía\, Granada\, Granada\, 18009\, España
CATEGORIES:Comisión Permanente
END:VEVENT
END:VCALENDAR