BEGIN:VCALENDAR
VERSION:2.0
PRODID:-//Consejo Consultivo de Andalucía - ECPv6.15.20//NONSGML v1.0//EN
CALSCALE:GREGORIAN
METHOD:PUBLISH
X-ORIGINAL-URL:https://consejoconsultivodeandalucia.es
X-WR-CALDESC:Eventos para Consejo Consultivo de Andalucía
REFRESH-INTERVAL;VALUE=DURATION:PT1H
X-Robots-Tag:noindex
X-PUBLISHED-TTL:PT1H
BEGIN:VTIMEZONE
TZID:Europe/Madrid
BEGIN:DAYLIGHT
TZOFFSETFROM:+0100
TZOFFSETTO:+0200
TZNAME:CEST
DTSTART:20240331T010000
END:DAYLIGHT
BEGIN:STANDARD
TZOFFSETFROM:+0200
TZOFFSETTO:+0100
TZNAME:CET
DTSTART:20241027T010000
END:STANDARD
BEGIN:DAYLIGHT
TZOFFSETFROM:+0100
TZOFFSETTO:+0200
TZNAME:CEST
DTSTART:20250330T010000
END:DAYLIGHT
BEGIN:STANDARD
TZOFFSETFROM:+0200
TZOFFSETTO:+0100
TZNAME:CET
DTSTART:20251026T010000
END:STANDARD
BEGIN:DAYLIGHT
TZOFFSETFROM:+0100
TZOFFSETTO:+0200
TZNAME:CEST
DTSTART:20260329T010000
END:DAYLIGHT
BEGIN:STANDARD
TZOFFSETFROM:+0200
TZOFFSETTO:+0100
TZNAME:CET
DTSTART:20261025T010000
END:STANDARD
END:VTIMEZONE
BEGIN:VEVENT
DTSTART;TZID=Europe/Madrid:20250402T103000
DTEND;TZID=Europe/Madrid:20250402T120000
DTSTAMP:20260424T140622
CREATED:20250310T100210Z
LAST-MODIFIED:20250328T101754Z
UID:23962-1743589800-1743595200@consejoconsultivodeandalucia.es
SUMMARY:Pleno
DESCRIPTION:
URL:https://consejoconsultivodeandalucia.es/event/pleno-10/
LOCATION:Sede del Consejo Consultivo de Andalucía\, Consejo Consultivo de Andalucía\, Granada\, Granada\, 18009\, España
CATEGORIES:Pleno
END:VEVENT
BEGIN:VEVENT
DTSTART;TZID=Europe/Madrid:20250402T120000
DTEND;TZID=Europe/Madrid:20250402T143000
DTSTAMP:20260424T140622
CREATED:20250328T101839Z
LAST-MODIFIED:20250328T101839Z
UID:24090-1743595200-1743604200@consejoconsultivodeandalucia.es
SUMMARY:Comisión permanente
DESCRIPTION:
URL:https://consejoconsultivodeandalucia.es/event/comision-permanente-79/
LOCATION:Sede del Consejo Consultivo de Andalucía\, Consejo Consultivo de Andalucía\, Granada\, Granada\, 18009\, España
CATEGORIES:Comisión Permanente
END:VEVENT
BEGIN:VEVENT
DTSTART;TZID=Europe/Madrid:20250423T103000
DTEND;TZID=Europe/Madrid:20250423T140000
DTSTAMP:20260424T140622
CREATED:20250424T092949Z
LAST-MODIFIED:20250424T092949Z
UID:24294-1745404200-1745416800@consejoconsultivodeandalucia.es
SUMMARY:Comisión permanente
DESCRIPTION:
URL:https://consejoconsultivodeandalucia.es/event/comision-permanente-80/
LOCATION:Sede del Consejo Consultivo de Andalucía\, Consejo Consultivo de Andalucía\, Granada\, Granada\, 18009\, España
CATEGORIES:Comisión Permanente
END:VEVENT
END:VCALENDAR