BEGIN:VCALENDAR
VERSION:2.0
PRODID:-//Consejo Consultivo de Andalucía - ECPv6.15.20//NONSGML v1.0//EN
CALSCALE:GREGORIAN
METHOD:PUBLISH
X-WR-CALNAME:Consejo Consultivo de Andalucía
X-ORIGINAL-URL:https://consejoconsultivodeandalucia.es
X-WR-CALDESC:Eventos para Consejo Consultivo de Andalucía
REFRESH-INTERVAL;VALUE=DURATION:PT1H
X-Robots-Tag:noindex
X-PUBLISHED-TTL:PT1H
BEGIN:VTIMEZONE
TZID:Europe/Madrid
BEGIN:DAYLIGHT
TZOFFSETFROM:+0100
TZOFFSETTO:+0200
TZNAME:CEST
DTSTART:20230326T010000
END:DAYLIGHT
BEGIN:STANDARD
TZOFFSETFROM:+0200
TZOFFSETTO:+0100
TZNAME:CET
DTSTART:20231029T010000
END:STANDARD
BEGIN:DAYLIGHT
TZOFFSETFROM:+0100
TZOFFSETTO:+0200
TZNAME:CEST
DTSTART:20240331T010000
END:DAYLIGHT
BEGIN:STANDARD
TZOFFSETFROM:+0200
TZOFFSETTO:+0100
TZNAME:CET
DTSTART:20241027T010000
END:STANDARD
BEGIN:DAYLIGHT
TZOFFSETFROM:+0100
TZOFFSETTO:+0200
TZNAME:CEST
DTSTART:20250330T010000
END:DAYLIGHT
BEGIN:STANDARD
TZOFFSETFROM:+0200
TZOFFSETTO:+0100
TZNAME:CET
DTSTART:20251026T010000
END:STANDARD
END:VTIMEZONE
BEGIN:VEVENT
DTSTART;TZID=Europe/Madrid:20240513T130000
DTEND;TZID=Europe/Madrid:20240513T150000
DTSTAMP:20260425T062312
CREATED:20240507T120904Z
LAST-MODIFIED:20240507T120904Z
UID:22302-1715605200-1715612400@consejoconsultivodeandalucia.es
SUMMARY:Encuentro de presidentes de la Tribunales Superiores de Justicia de España
DESCRIPTION:La presidenta del Consejo Consultivo asiste al encuentro de presidentes de Tribunales Superiores de Justicia de España que se celebra en el salón de plenos del TSJA.
URL:https://consejoconsultivodeandalucia.es/event/encuentro-de-presidentes-de-la-tribunales-superiores-de-justicia-de-espana/
LOCATION:TSJA
CATEGORIES:Actos Institucionales
END:VEVENT
BEGIN:VEVENT
DTSTART;TZID=Europe/Madrid:20240514T103000
DTEND;TZID=Europe/Madrid:20240514T140000
DTSTAMP:20260425T062312
CREATED:20240521T083552Z
LAST-MODIFIED:20240521T083552Z
UID:22413-1715682600-1715695200@consejoconsultivodeandalucia.es
SUMMARY:Comisión permanente
DESCRIPTION:
URL:https://consejoconsultivodeandalucia.es/event/comision-permanente-57/
LOCATION:Sede del Consejo Consultivo de Andalucía\, Consejo Consultivo de Andalucía\, Granada\, Granada\, 18009\, España
CATEGORIES:Comisión Permanente
END:VEVENT
BEGIN:VEVENT
DTSTART;TZID=Europe/Madrid:20240521T193000
DTEND;TZID=Europe/Madrid:20240521T210000
DTSTAMP:20260425T062312
CREATED:20240522T093603Z
LAST-MODIFIED:20240522T093603Z
UID:22429-1716319800-1716325200@consejoconsultivodeandalucia.es
SUMMARY:Premios Provinciales de Tauromaquia
DESCRIPTION:La presidenta del Consejo Consultivo de Andalucía acude a la primera edición de los Premios Provinciales de Tauromaquia celebrada en la Delegación del Gobierno de la Junta de Andalucía en Granada.
URL:https://consejoconsultivodeandalucia.es/event/premios-provinciales-de-tauromaquia/
LOCATION:Delegación del Gobierno de la Junta en Granada
CATEGORIES:Actos Institucionales
END:VEVENT
BEGIN:VEVENT
DTSTART;TZID=Europe/Madrid:20240523T103000
DTEND;TZID=Europe/Madrid:20240523T130000
DTSTAMP:20260425T062312
CREATED:20240521T083702Z
LAST-MODIFIED:20240521T083702Z
UID:22415-1716460200-1716469200@consejoconsultivodeandalucia.es
SUMMARY:Comisión Permanente
DESCRIPTION:
URL:https://consejoconsultivodeandalucia.es/event/comision-permanente-58/
LOCATION:Sede del Consejo Consultivo de Andalucía\, Consejo Consultivo de Andalucía\, Granada\, Granada\, 18009\, España
CATEGORIES:Comisión Permanente
END:VEVENT
END:VCALENDAR