BEGIN:VCALENDAR
VERSION:2.0
PRODID:-//Consejo Consultivo de Andalucía - ECPv6.15.20//NONSGML v1.0//EN
CALSCALE:GREGORIAN
METHOD:PUBLISH
X-WR-CALNAME:Consejo Consultivo de Andalucía
X-ORIGINAL-URL:https://consejoconsultivodeandalucia.es
X-WR-CALDESC:Eventos para Consejo Consultivo de Andalucía
REFRESH-INTERVAL;VALUE=DURATION:PT1H
X-Robots-Tag:noindex
X-PUBLISHED-TTL:PT1H
BEGIN:VTIMEZONE
TZID:Europe/Madrid
BEGIN:DAYLIGHT
TZOFFSETFROM:+0100
TZOFFSETTO:+0200
TZNAME:CEST
DTSTART:20230326T010000
END:DAYLIGHT
BEGIN:STANDARD
TZOFFSETFROM:+0200
TZOFFSETTO:+0100
TZNAME:CET
DTSTART:20231029T010000
END:STANDARD
BEGIN:DAYLIGHT
TZOFFSETFROM:+0100
TZOFFSETTO:+0200
TZNAME:CEST
DTSTART:20240331T010000
END:DAYLIGHT
BEGIN:STANDARD
TZOFFSETFROM:+0200
TZOFFSETTO:+0100
TZNAME:CET
DTSTART:20241027T010000
END:STANDARD
BEGIN:DAYLIGHT
TZOFFSETFROM:+0100
TZOFFSETTO:+0200
TZNAME:CEST
DTSTART:20250330T010000
END:DAYLIGHT
BEGIN:STANDARD
TZOFFSETFROM:+0200
TZOFFSETTO:+0100
TZNAME:CET
DTSTART:20251026T010000
END:STANDARD
END:VTIMEZONE
BEGIN:VEVENT
DTSTART;TZID=Europe/Madrid:20240111T103000
DTEND;TZID=Europe/Madrid:20240111T140000
DTSTAMP:20260425T123444
CREATED:20240116T111418Z
LAST-MODIFIED:20240116T111418Z
UID:21378-1704969000-1704981600@consejoconsultivodeandalucia.es
SUMMARY:Comisión Permanente
DESCRIPTION:
URL:https://consejoconsultivodeandalucia.es/event/comision-permanente-47/
LOCATION:Sede del Consejo Consultivo de Andalucía\, Consejo Consultivo de Andalucía\, Granada\, Granada\, 18009\, España
CATEGORIES:Comisión Permanente
END:VEVENT
BEGIN:VEVENT
DTSTART;TZID=Europe/Madrid:20240118T093000
DTEND;TZID=Europe/Madrid:20240118T123000
DTSTAMP:20260425T123444
CREATED:20240116T111813Z
LAST-MODIFIED:20240116T111813Z
UID:21384-1705570200-1705581000@consejoconsultivodeandalucia.es
SUMMARY:Comisión Permanente
DESCRIPTION:
URL:https://consejoconsultivodeandalucia.es/event/comision-permanente-50/
LOCATION:Sede del Consejo Consultivo de Andalucía\, Consejo Consultivo de Andalucía\, Granada\, Granada\, 18009\, España
CATEGORIES:Comisión Permanente
END:VEVENT
BEGIN:VEVENT
DTSTART;TZID=Europe/Madrid:20240119T100000
DTEND;TZID=Europe/Madrid:20240119T120000
DTSTAMP:20260425T123444
CREATED:20240118T101249Z
LAST-MODIFIED:20240118T101249Z
UID:21388-1705658400-1705665600@consejoconsultivodeandalucia.es
SUMMARY:Reunión con el rector de la Universidad de Salamanca
DESCRIPTION:La presidenta del Consejo Consultivo de Andalucía\, María Jesús Gallardo Castillo\, se reúne con el rector de la Universidad de Salamanca\, Ricardo Rivera Ortega\, para abordar proyectos conjuntos.
URL:https://consejoconsultivodeandalucia.es/event/reunion-con-el-rector-de-la-universidad-de-salamanca/
LOCATION:Universidad de Salamanca
CATEGORIES:Actos Institucionales
END:VEVENT
BEGIN:VEVENT
DTSTART;TZID=Europe/Madrid:20240124T103000
DTEND;TZID=Europe/Madrid:20240124T133000
DTSTAMP:20260425T123444
CREATED:20240116T111625Z
LAST-MODIFIED:20240116T111625Z
UID:21382-1706092200-1706103000@consejoconsultivodeandalucia.es
SUMMARY:Comisión Permanente
DESCRIPTION:
URL:https://consejoconsultivodeandalucia.es/event/comision-permanente-49/
LOCATION:Sede del Consejo Consultivo de Andalucía\, Consejo Consultivo de Andalucía\, Granada\, Granada\, 18009\, España
CATEGORIES:Comisión Permanente
END:VEVENT
END:VCALENDAR