BEGIN:VCALENDAR
VERSION:2.0
PRODID:-//Consejo Consultivo de Andalucía - ECPv6.15.20//NONSGML v1.0//EN
CALSCALE:GREGORIAN
METHOD:PUBLISH
X-WR-CALNAME:Consejo Consultivo de Andalucía
X-ORIGINAL-URL:https://consejoconsultivodeandalucia.es
X-WR-CALDESC:Eventos para Consejo Consultivo de Andalucía
REFRESH-INTERVAL;VALUE=DURATION:PT1H
X-Robots-Tag:noindex
X-PUBLISHED-TTL:PT1H
BEGIN:VTIMEZONE
TZID:Europe/Madrid
BEGIN:DAYLIGHT
TZOFFSETFROM:+0100
TZOFFSETTO:+0200
TZNAME:CEST
DTSTART:20230326T010000
END:DAYLIGHT
BEGIN:STANDARD
TZOFFSETFROM:+0200
TZOFFSETTO:+0100
TZNAME:CET
DTSTART:20231029T010000
END:STANDARD
BEGIN:DAYLIGHT
TZOFFSETFROM:+0100
TZOFFSETTO:+0200
TZNAME:CEST
DTSTART:20240331T010000
END:DAYLIGHT
BEGIN:STANDARD
TZOFFSETFROM:+0200
TZOFFSETTO:+0100
TZNAME:CET
DTSTART:20241027T010000
END:STANDARD
BEGIN:DAYLIGHT
TZOFFSETFROM:+0100
TZOFFSETTO:+0200
TZNAME:CEST
DTSTART:20250330T010000
END:DAYLIGHT
BEGIN:STANDARD
TZOFFSETFROM:+0200
TZOFFSETTO:+0100
TZNAME:CET
DTSTART:20251026T010000
END:STANDARD
BEGIN:DAYLIGHT
TZOFFSETFROM:+0100
TZOFFSETTO:+0200
TZNAME:CEST
DTSTART:20260329T010000
END:DAYLIGHT
BEGIN:STANDARD
TZOFFSETFROM:+0200
TZOFFSETTO:+0100
TZNAME:CET
DTSTART:20261025T010000
END:STANDARD
END:VTIMEZONE
BEGIN:VEVENT
DTSTART;TZID=Europe/Madrid:20250724T090000
DTEND;TZID=Europe/Madrid:20250724T113000
DTSTAMP:20260424T040428
CREATED:20251119T111039Z
LAST-MODIFIED:20251119T111039Z
UID:24840-1753347600-1753356600@consejoconsultivodeandalucia.es
SUMMARY:Comisión permanente
DESCRIPTION:
URL:https://consejoconsultivodeandalucia.es/event/comision-permanente-86/
LOCATION:Sede del Consejo Consultivo de Andalucía\, Consejo Consultivo de Andalucía\, Granada\, Granada\, 18009\, España
CATEGORIES:Comisión Permanente
END:VEVENT
BEGIN:VEVENT
DTSTART;TZID=Europe/Madrid:20250710T100000
DTEND;TZID=Europe/Madrid:20250710T140000
DTSTAMP:20260424T040428
CREATED:20251119T111039Z
LAST-MODIFIED:20251119T111039Z
UID:24835-1752141600-1752156000@consejoconsultivodeandalucia.es
SUMMARY:Comisión permanente
DESCRIPTION:
URL:https://consejoconsultivodeandalucia.es/event/comision-permanente-85/
LOCATION:Sede del Consejo Consultivo de Andalucía\, Consejo Consultivo de Andalucía\, Granada\, Granada\, 18009\, España
CATEGORIES:Comisión Permanente
END:VEVENT
BEGIN:VEVENT
DTSTART;TZID=Europe/Madrid:20250627T093000
DTEND;TZID=Europe/Madrid:20250627T103000
DTSTAMP:20260424T040428
CREATED:20251119T111039Z
LAST-MODIFIED:20251119T111039Z
UID:24837-1751016600-1751020200@consejoconsultivodeandalucia.es
SUMMARY:Conferencia en la IV jornada de la Revista Andaluza de Administración Pública
DESCRIPTION:La presidenta del Consejo Consultivo de Andalucía\, María Jesús Gallardo\, participa en la IV jornada de la Revista Andaluza de Administración Pública con la conferencia: «La responsabilidad patrimonial de la Administración: una mirada desde la doctrina del Consejo Consultivo».
URL:https://consejoconsultivodeandalucia.es/event/conferencia-en-la-iv-jornada-de-la-revista-andaluza-de-administracion-publica/
LOCATION:Facultad de Derecho de Sevilla
CATEGORIES:Actos Institucionales
END:VEVENT
BEGIN:VEVENT
DTSTART;TZID=Europe/Madrid:20250624T170000
DTEND;TZID=Europe/Madrid:20250624T200000
DTSTAMP:20260424T040428
CREATED:20251119T111039Z
LAST-MODIFIED:20251119T111039Z
UID:24723-1750784400-1750795200@consejoconsultivodeandalucia.es
SUMMARY:Comisión permanente
DESCRIPTION:
URL:https://consejoconsultivodeandalucia.es/event/comision-permanente-84/
LOCATION:Sede del Consejo Consultivo de Andalucía\, Consejo Consultivo de Andalucía\, Granada\, Granada\, 18009\, España
CATEGORIES:Comisión Permanente
END:VEVENT
BEGIN:VEVENT
DTSTART;TZID=Europe/Madrid:20250620T123000
DTEND;TZID=Europe/Madrid:20250620T140000
DTSTAMP:20260424T040428
CREATED:20250609T114745Z
LAST-MODIFIED:20250609T114745Z
UID:24721-1750422600-1750428000@consejoconsultivodeandalucia.es
SUMMARY:Seminario formativo en la Universidad de Salamanca
DESCRIPTION:La presidenta del Consejo Consultivo de Andalucía\, María Jesús Gallardo Castillo\, asistirá al seminario de la Universidad de Salamanca ‘La responsabilidad patrimonial de la Administración: una mirada desde la doctrina consultiva’\, donde pronunciará la conferencia magistral.
URL:https://consejoconsultivodeandalucia.es/event/seminario-formativo-en-la-universidad-de-salamanca/
LOCATION:Universidad de Salamanca
END:VEVENT
BEGIN:VEVENT
DTSTART;TZID=Europe/Madrid:20250613T131500
DTEND;TZID=Europe/Madrid:20250613T140000
DTSTAMP:20260424T040428
CREATED:20250609T114327Z
LAST-MODIFIED:20250609T114327Z
UID:24719-1749820500-1749823200@consejoconsultivodeandalucia.es
SUMMARY:Conferencia en el Cemci
DESCRIPTION:La presidenta del Consejo Consultivo de Andalucía\, María Jesús Gallardo\, dará la conferencia magistral ‘Problemas y soluciones en la responsabilidad patrimonial en las Entidades Locales’.
URL:https://consejoconsultivodeandalucia.es/event/conferencia-en-el-cemci/
LOCATION:Palacio de Congresos
END:VEVENT
BEGIN:VEVENT
DTSTART;TZID=Europe/Madrid:20250612T190000
DTEND;TZID=Europe/Madrid:20250612T200000
DTSTAMP:20260424T040428
CREATED:20250609T113622Z
LAST-MODIFIED:20250609T113622Z
UID:24717-1749754800-1749758400@consejoconsultivodeandalucia.es
SUMMARY:Acto conmemorativo del 50 aniversario del Cemci
DESCRIPTION:La presidenta del Consejo Consultivo de Andalucía\, María Jesús Gallardo Castillo\, asistirá al acto conmemorativo del 50 aniversario del Centro de Estudios Municipales y de Cooperación Internacional (Cemci). \n 
URL:https://consejoconsultivodeandalucia.es/event/acto-conmemorativo-del-50-aniversario-del-cemci/
LOCATION:Palacio de Congresos
END:VEVENT
BEGIN:VEVENT
DTSTART;TZID=Europe/Madrid:20250605T100000
DTEND;TZID=Europe/Madrid:20250605T140000
DTSTAMP:20260424T040428
CREATED:20250603T104921Z
LAST-MODIFIED:20250603T104921Z
UID:24658-1749117600-1749132000@consejoconsultivodeandalucia.es
SUMMARY:Comisión permanente
DESCRIPTION:
URL:https://consejoconsultivodeandalucia.es/event/comision-permanente-83/
LOCATION:Granada
CATEGORIES:Comisión Permanente
END:VEVENT
BEGIN:VEVENT
DTSTART;TZID=Europe/Madrid:20250603T110000
DTEND;TZID=Europe/Madrid:20250603T120000
DTSTAMP:20260424T040428
CREATED:20250603T105029Z
LAST-MODIFIED:20250603T105029Z
UID:24660-1748948400-1748952000@consejoconsultivodeandalucia.es
SUMMARY:Visita de la vicerrectora de Formación Permanente de la UGR
DESCRIPTION:
URL:https://consejoconsultivodeandalucia.es/event/visita-de-la-vicerrectora-de-formacion-permanente-de-la-ugr/
LOCATION:Sede del Consejo Consultivo de Andalucía\, Consejo Consultivo de Andalucía\, Granada\, Granada\, 18009\, España
END:VEVENT
BEGIN:VEVENT
DTSTART;TZID=Europe/Madrid:20250527T093000
DTEND;TZID=Europe/Madrid:20250527T140000
DTSTAMP:20260424T040428
CREATED:20250514T115940Z
LAST-MODIFIED:20250514T115940Z
UID:24474-1748338200-1748354400@consejoconsultivodeandalucia.es
SUMMARY:Comisión permanente
DESCRIPTION:
URL:https://consejoconsultivodeandalucia.es/event/comision-permanente-82/
LOCATION:Sede del Consejo Consultivo de Andalucía\, Consejo Consultivo de Andalucía\, Granada\, Granada\, 18009\, España
CATEGORIES:Comisión Permanente
END:VEVENT
BEGIN:VEVENT
DTSTART;TZID=Europe/Madrid:20250526T113000
DTEND;TZID=Europe/Madrid:20250526T190000
DTSTAMP:20260424T040428
CREATED:20250526T082323Z
LAST-MODIFIED:20250526T082323Z
UID:24615-1748259000-1748286000@consejoconsultivodeandalucia.es
SUMMARY:Jornada '10 años de la Ley 39/2015: una mirada crítica desde la función consultiva'
DESCRIPTION:El Consejo Consultivo de Andalucía\, junto al Consejo de Estado\, organiza unas jornadas que reúnen a más de cien personas de toda España en Granada para analizar\, diez años después de su aprobación\, los cambios que requiere una de las normas más importantes del ordenamiento jurídico español: la Ley 39/2015
URL:https://consejoconsultivodeandalucia.es/event/jornada-10-anos-de-la-ley-39-2015-una-mirada-critica-desde-la-funcion-consultiva/
LOCATION:Sede del Consejo Consultivo de Andalucía\, Consejo Consultivo de Andalucía\, Granada\, Granada\, 18009\, España
CATEGORIES:Actos Institucionales
END:VEVENT
BEGIN:VEVENT
DTSTART;TZID=Europe/Madrid:20250505T093000
DTEND;TZID=Europe/Madrid:20250505T140000
DTSTAMP:20260424T040428
CREATED:20250424T092839Z
LAST-MODIFIED:20250502T091401Z
UID:24292-1746437400-1746453600@consejoconsultivodeandalucia.es
SUMMARY:Comisión permanente
DESCRIPTION:
URL:https://consejoconsultivodeandalucia.es/event/comision-permanente-81/
LOCATION:Sede del Consejo Consultivo de Andalucía\, Consejo Consultivo de Andalucía\, Granada\, Granada\, 18009\, España
CATEGORIES:Comisión Permanente
END:VEVENT
BEGIN:VEVENT
DTSTART;TZID=Europe/Madrid:20250423T103000
DTEND;TZID=Europe/Madrid:20250423T140000
DTSTAMP:20260424T040428
CREATED:20250424T092949Z
LAST-MODIFIED:20250424T092949Z
UID:24294-1745404200-1745416800@consejoconsultivodeandalucia.es
SUMMARY:Comisión permanente
DESCRIPTION:
URL:https://consejoconsultivodeandalucia.es/event/comision-permanente-80/
LOCATION:Sede del Consejo Consultivo de Andalucía\, Consejo Consultivo de Andalucía\, Granada\, Granada\, 18009\, España
CATEGORIES:Comisión Permanente
END:VEVENT
BEGIN:VEVENT
DTSTART;TZID=Europe/Madrid:20250402T120000
DTEND;TZID=Europe/Madrid:20250402T143000
DTSTAMP:20260424T040428
CREATED:20250328T101839Z
LAST-MODIFIED:20250328T101839Z
UID:24090-1743595200-1743604200@consejoconsultivodeandalucia.es
SUMMARY:Comisión permanente
DESCRIPTION:
URL:https://consejoconsultivodeandalucia.es/event/comision-permanente-79/
LOCATION:Sede del Consejo Consultivo de Andalucía\, Consejo Consultivo de Andalucía\, Granada\, Granada\, 18009\, España
CATEGORIES:Comisión Permanente
END:VEVENT
BEGIN:VEVENT
DTSTART;TZID=Europe/Madrid:20250402T103000
DTEND;TZID=Europe/Madrid:20250402T120000
DTSTAMP:20260424T040428
CREATED:20250310T100210Z
LAST-MODIFIED:20250328T101754Z
UID:23962-1743589800-1743595200@consejoconsultivodeandalucia.es
SUMMARY:Pleno
DESCRIPTION:
URL:https://consejoconsultivodeandalucia.es/event/pleno-10/
LOCATION:Sede del Consejo Consultivo de Andalucía\, Consejo Consultivo de Andalucía\, Granada\, Granada\, 18009\, España
CATEGORIES:Pleno
END:VEVENT
BEGIN:VEVENT
DTSTART;TZID=Europe/Madrid:20250328T123000
DTEND;TZID=Europe/Madrid:20250328T130000
DTSTAMP:20260424T040428
CREATED:20250328T101352Z
LAST-MODIFIED:20250328T101352Z
UID:24085-1743165000-1743166800@consejoconsultivodeandalucia.es
SUMMARY:El consejero Antonio Dorado renueva su cargo en el Consejo Consultivo
DESCRIPTION:La presidenta del Consejo Consultivo de Andalucía\, María Jesús Gallardo Castillo\, asiste al acto de renovación de Antonio Dorado Picón  como consejero electivo de la institución en un acto presidido por el presidente de la Junta de Andalucía\, Juan Manuel Moreno Bonilla que tendrá lugar en el Palacio de San Telmo.
URL:https://consejoconsultivodeandalucia.es/event/el-consejero-antonio-dorado-renueva-su-cargo-en-el-consejo-consultivo/
LOCATION:Palacio de San Telmo
CATEGORIES:Actos Institucionales
END:VEVENT
BEGIN:VEVENT
DTSTART;TZID=Europe/Madrid:20250320T100000
DTEND;TZID=Europe/Madrid:20250320T150000
DTSTAMP:20260424T040428
CREATED:20250218T094800Z
LAST-MODIFIED:20250218T094800Z
UID:23891-1742464800-1742482800@consejoconsultivodeandalucia.es
SUMMARY:Comisión Permanente
DESCRIPTION:
URL:https://consejoconsultivodeandalucia.es/event/comision-permanente-77/
LOCATION:Sede del Consejo Consultivo de Andalucía\, Consejo Consultivo de Andalucía\, Granada\, Granada\, 18009\, España
END:VEVENT
BEGIN:VEVENT
DTSTART;TZID=Europe/Madrid:20250314T120000
DTEND;TZID=Europe/Madrid:20250314T170000
DTSTAMP:20260424T040428
CREATED:20250218T094657Z
LAST-MODIFIED:20250218T094719Z
UID:23888-1741953600-1741971600@consejoconsultivodeandalucia.es
SUMMARY:Entrega Premio José Pedro Pérez Llorca
DESCRIPTION:
URL:https://consejoconsultivodeandalucia.es/event/entrega-premio-jose-pedro-perez-llorca/
LOCATION:Oratorio de San Felipe Neri\, Cádiz\, Spain
END:VEVENT
BEGIN:VEVENT
DTSTART;TZID=Europe/Madrid:20250311T120000
DTEND;TZID=Europe/Madrid:20250311T130000
DTSTAMP:20260424T040428
CREATED:20250310T095942Z
LAST-MODIFIED:20250310T095942Z
UID:23960-1741694400-1741698000@consejoconsultivodeandalucia.es
SUMMARY:Celebración del XXVIII aniversario de la creación del MADOC
DESCRIPTION:La presidenta del Consejo Consultivo asistirá al acto de conmemoración del XXVIII aniversario de la creación del MADOC
URL:https://consejoconsultivodeandalucia.es/event/celebracion-del-xxviii-aniversario-de-la-creacion-del-madoc/
LOCATION:Granada
CATEGORIES:Actos Institucionales
END:VEVENT
BEGIN:VEVENT
DTSTART;TZID=Europe/Madrid:20250306T100000
DTEND;TZID=Europe/Madrid:20250306T150000
DTSTAMP:20260424T040428
CREATED:20250218T094858Z
LAST-MODIFIED:20250218T094858Z
UID:23893-1741255200-1741273200@consejoconsultivodeandalucia.es
SUMMARY:Comisión Permanente
DESCRIPTION:
URL:https://consejoconsultivodeandalucia.es/event/comision-permanente-78/
LOCATION:Sede del Consejo Consultivo de Andalucía\, Consejo Consultivo de Andalucía\, Granada\, Granada\, 18009\, España
END:VEVENT
BEGIN:VEVENT
DTSTART;TZID=Europe/Madrid:20250228T100000
DTEND;TZID=Europe/Madrid:20250228T150000
DTSTAMP:20260424T040428
CREATED:20250218T094539Z
LAST-MODIFIED:20250218T094539Z
UID:23886-1740736800-1740754800@consejoconsultivodeandalucia.es
SUMMARY:Actos institucionales del Día de Andalucía
DESCRIPTION:
URL:https://consejoconsultivodeandalucia.es/event/actos-institucionales-del-dia-de-andalucia/
LOCATION:Parlamento de Andalucía
END:VEVENT
BEGIN:VEVENT
DTSTART;TZID=Europe/Madrid:20250224T120000
DTEND;TZID=Europe/Madrid:20250224T150000
DTSTAMP:20260424T040428
CREATED:20250218T094500Z
LAST-MODIFIED:20250218T094500Z
UID:23884-1740398400-1740409200@consejoconsultivodeandalucia.es
SUMMARY:Visita Presidenta Consejo de Estado
DESCRIPTION:
URL:https://consejoconsultivodeandalucia.es/event/visita-presidenta-consejo-de-estado/
LOCATION:Sede del Consejo Consultivo de Andalucía\, Consejo Consultivo de Andalucía\, Granada\, Granada\, 18009\, España
END:VEVENT
BEGIN:VEVENT
DTSTART;TZID=Europe/Madrid:20250219T170000
DTEND;TZID=Europe/Madrid:20250219T210000
DTSTAMP:20260424T040428
CREATED:20250218T094207Z
LAST-MODIFIED:20250218T094207Z
UID:23878-1739984400-1739998800@consejoconsultivodeandalucia.es
SUMMARY:Comisión Permanente
DESCRIPTION:
URL:https://consejoconsultivodeandalucia.es/event/comision-permanente-75/
LOCATION:Sede del Consejo Consultivo de Andalucía\, Consejo Consultivo de Andalucía\, Granada\, Granada\, 18009\, España
END:VEVENT
BEGIN:VEVENT
DTSTART;TZID=Europe/Madrid:20250218T130000
DTEND;TZID=Europe/Madrid:20250218T150000
DTSTAMP:20260424T040428
CREATED:20250218T094304Z
LAST-MODIFIED:20250218T094304Z
UID:23880-1739883600-1739890800@consejoconsultivodeandalucia.es
SUMMARY:Acto de Toma de Posesión del Coronel Jefe de la Guardia Civil de Granada
DESCRIPTION:
URL:https://consejoconsultivodeandalucia.es/event/acto-de-toma-de-posesion-del-coronel-jefe-de-la-guardia-civil-de-granada/
LOCATION:Comandancia Guardia Civil Granada
END:VEVENT
BEGIN:VEVENT
DTSTART;TZID=Europe/Madrid:20250206T100000
DTEND;TZID=Europe/Madrid:20250206T150000
DTSTAMP:20260424T040428
CREATED:20250218T094352Z
LAST-MODIFIED:20250218T094352Z
UID:23882-1738836000-1738854000@consejoconsultivodeandalucia.es
SUMMARY:Comisión Permanente
DESCRIPTION:
URL:https://consejoconsultivodeandalucia.es/event/comision-permanente-76/
LOCATION:Sede del Consejo Consultivo de Andalucía\, Consejo Consultivo de Andalucía\, Granada\, Granada\, 18009\, España
END:VEVENT
BEGIN:VEVENT
DTSTART;TZID=Europe/Madrid:20250122T170000
DTEND;TZID=Europe/Madrid:20250122T210000
DTSTAMP:20260424T040428
CREATED:20250121T090823Z
LAST-MODIFIED:20250121T090823Z
UID:23758-1737565200-1737579600@consejoconsultivodeandalucia.es
SUMMARY:Comisión permanente
DESCRIPTION:
URL:https://consejoconsultivodeandalucia.es/event/comision-permanente-74/
LOCATION:Sede del Consejo Consultivo de Andalucía\, Consejo Consultivo de Andalucía\, Granada\, Granada\, 18009\, España
CATEGORIES:Comisión Permanente
END:VEVENT
BEGIN:VEVENT
DTSTART;TZID=Europe/Madrid:20250116T093000
DTEND;TZID=Europe/Madrid:20250116T140000
DTSTAMP:20260424T040428
CREATED:20250121T090718Z
LAST-MODIFIED:20250121T090718Z
UID:23755-1737019800-1737036000@consejoconsultivodeandalucia.es
SUMMARY:Comisión permanente
DESCRIPTION:
URL:https://consejoconsultivodeandalucia.es/event/comision-permanente-73/
LOCATION:Sede del Consejo Consultivo de Andalucía\, Consejo Consultivo de Andalucía\, Granada\, Granada\, 18009\, España
CATEGORIES:Comisión Permanente
END:VEVENT
BEGIN:VEVENT
DTSTART;TZID=Europe/Madrid:20241218T103000
DTEND;TZID=Europe/Madrid:20241218T143000
DTSTAMP:20260424T040428
CREATED:20241203T083615Z
LAST-MODIFIED:20241203T083615Z
UID:23488-1734517800-1734532200@consejoconsultivodeandalucia.es
SUMMARY:Comisión permanente
DESCRIPTION:
URL:https://consejoconsultivodeandalucia.es/event/comision-permanente-72/
LOCATION:Sede del Consejo Consultivo de Andalucía\, Consejo Consultivo de Andalucía\, Granada\, Granada\, 18009\, España
CATEGORIES:Comisión Permanente
END:VEVENT
BEGIN:VEVENT
DTSTART;TZID=Europe/Madrid:20241216T134500
DTEND;TZID=Europe/Madrid:20241216T143000
DTSTAMP:20260424T040428
CREATED:20241215T220826Z
LAST-MODIFIED:20241215T220826Z
UID:23568-1734356700-1734359400@consejoconsultivodeandalucia.es
SUMMARY:Entrega en San Telmo de la Memoria 2023
DESCRIPTION:La presidenta del Consejo Consultivo de Andalucía\, María Jesús Gallardo Castillo se reúne con el presidente de la Junta de Andalucía\, Juan Manuel Moreno Bonilla\, para hacerle entrega de la memoria 2023 del órgano consultivo.
URL:https://consejoconsultivodeandalucia.es/event/entrega-en-san-telmo-de-la-memoria-2023/
LOCATION:Palacio de San Telmo
CATEGORIES:Actos Institucionales
END:VEVENT
BEGIN:VEVENT
DTSTART;TZID=Europe/Madrid:20241203T170000
DTEND;TZID=Europe/Madrid:20241203T210000
DTSTAMP:20260424T040428
CREATED:20241203T083517Z
LAST-MODIFIED:20241203T083517Z
UID:23486-1733245200-1733259600@consejoconsultivodeandalucia.es
SUMMARY:Comisión permanente
DESCRIPTION:
URL:https://consejoconsultivodeandalucia.es/event/comision-permanente-71/
LOCATION:Sede del Consejo Consultivo de Andalucía\, Consejo Consultivo de Andalucía\, Granada\, Granada\, 18009\, España
CATEGORIES:Comisión Permanente
END:VEVENT
END:VCALENDAR