BEGIN:VCALENDAR
VERSION:2.0
PRODID:-//Consejo Consultivo de Andalucía - ECPv6.15.20//NONSGML v1.0//EN
CALSCALE:GREGORIAN
METHOD:PUBLISH
X-ORIGINAL-URL:https://consejoconsultivodeandalucia.es
X-WR-CALDESC:Eventos para Consejo Consultivo de Andalucía
REFRESH-INTERVAL;VALUE=DURATION:PT1H
X-Robots-Tag:noindex
X-PUBLISHED-TTL:PT1H
BEGIN:VTIMEZONE
TZID:Europe/Madrid
BEGIN:DAYLIGHT
TZOFFSETFROM:+0100
TZOFFSETTO:+0200
TZNAME:CEST
DTSTART:20200329T010000
END:DAYLIGHT
BEGIN:STANDARD
TZOFFSETFROM:+0200
TZOFFSETTO:+0100
TZNAME:CET
DTSTART:20201025T010000
END:STANDARD
BEGIN:DAYLIGHT
TZOFFSETFROM:+0100
TZOFFSETTO:+0200
TZNAME:CEST
DTSTART:20210328T010000
END:DAYLIGHT
BEGIN:STANDARD
TZOFFSETFROM:+0200
TZOFFSETTO:+0100
TZNAME:CET
DTSTART:20211031T010000
END:STANDARD
BEGIN:DAYLIGHT
TZOFFSETFROM:+0100
TZOFFSETTO:+0200
TZNAME:CEST
DTSTART:20220327T010000
END:DAYLIGHT
BEGIN:STANDARD
TZOFFSETFROM:+0200
TZOFFSETTO:+0100
TZNAME:CET
DTSTART:20221030T010000
END:STANDARD
END:VTIMEZONE
BEGIN:VEVENT
DTSTART;TZID=Europe/Madrid:20210923T100000
DTEND;TZID=Europe/Madrid:20210923T140000
DTSTAMP:20260425T054818
CREATED:20210916T122002Z
LAST-MODIFIED:20210916T122002Z
UID:19026-1632391200-1632405600@consejoconsultivodeandalucia.es
SUMMARY:Comisión Permanente
DESCRIPTION:
URL:https://consejoconsultivodeandalucia.es/event/comision-permanente-2/
LOCATION:Sede del Consejo Consultivo de Andalucía\, Consejo Consultivo de Andalucía\, Granada\, Granada\, 18009\, España
END:VEVENT
BEGIN:VEVENT
DTSTART;TZID=Europe/Madrid:20210917T130000
DTEND;TZID=Europe/Madrid:20210917T140000
DTSTAMP:20260425T054818
CREATED:20210916T121917Z
LAST-MODIFIED:20210916T121917Z
UID:19019-1631883600-1631887200@consejoconsultivodeandalucia.es
SUMMARY:Asistencia a la Apertura del Año Judicial 2021-2022
DESCRIPTION:La presidenta asiste a la Apertura del Año Judicial en el Salón de Plenos de la Real Chancillería (Granada).
URL:https://consejoconsultivodeandalucia.es/event/asistencia-a-la-apertura-del-ano-judicial-2021-2022/
LOCATION:Tribunal Superior de Justicia de Andalucía\, Plaza Nueva 10\, Granada\, España
END:VEVENT
BEGIN:VEVENT
DTSTART;TZID=Europe/Madrid:20210915T110000
DTEND;TZID=Europe/Madrid:20210915T143000
DTSTAMP:20260425T054818
CREATED:20210914T122351Z
LAST-MODIFIED:20210914T122523Z
UID:19015-1631703600-1631716200@consejoconsultivodeandalucia.es
SUMMARY:Comisión Permanente 15-09-2021
DESCRIPTION:Comisión Permanente fecha: 15-09-2021
URL:https://consejoconsultivodeandalucia.es/event/comision-permanente-15-09-2021/
LOCATION:Sede del Consejo Consultivo de Andalucía\, Consejo Consultivo de Andalucía\, Granada\, Granada\, 18009\, España
END:VEVENT
BEGIN:VEVENT
DTSTART;TZID=Europe/Madrid:20210907T100000
DTEND;TZID=Europe/Madrid:20210907T143000
DTSTAMP:20260425T054818
CREATED:20210903T094713Z
LAST-MODIFIED:20210903T102828Z
UID:18997-1631008800-1631025000@consejoconsultivodeandalucia.es
SUMMARY:Comisión Permanente
DESCRIPTION:
URL:https://consejoconsultivodeandalucia.es/event/comision-permanente/
LOCATION:Sede del Consejo Consultivo de Andalucía\, Consejo Consultivo de Andalucía\, Granada\, Granada\, 18009\, España
CATEGORIES:Comisión Permanente
ATTACH;FMTTYPE=image/jpeg:https://consejoconsultivodeandalucia.es/wp-content/uploads/2016/02/DSC41901.jpg
END:VEVENT
BEGIN:VEVENT
DTSTART;TZID=Europe/Madrid:20210903T110000
DTEND;TZID=Europe/Madrid:20210903T120000
DTSTAMP:20260425T054818
CREATED:20210903T093919Z
LAST-MODIFIED:20210903T102858Z
UID:18995-1630666800-1630670400@consejoconsultivodeandalucia.es
SUMMARY:La presidenta del Consejo Consultivo de Andalucía\, María Jesús Gallardo asiste a la imposición de la Medalla de Oro a Doña Rebeca Grynspan\, secretaria general Iberoamericana en el Rectorado de la Universidad Internacional de Andalucía.
DESCRIPTION:
URL:https://consejoconsultivodeandalucia.es/event/la-presidenta-del-consejo-consultivo-de-andalucia-maria-jesus-gallardo-asiste-a-la-imposicion-de-la-medalla-de-oro-a-dona-rebeca-grynspan-secretaria-general-iberoamericana-en-el-rectorado-de-la-univ/
CATEGORIES:Actos Institucionales
END:VEVENT
BEGIN:VEVENT
DTSTART;TZID=Europe/Madrid:20210727T100000
DTEND;TZID=Europe/Madrid:20210727T143000
DTSTAMP:20260425T054818
CREATED:20210726T073551Z
LAST-MODIFIED:20210903T103003Z
UID:18962-1627380000-1627396200@consejoconsultivodeandalucia.es
SUMMARY:Comisión Permanente 27-07-2021
DESCRIPTION:
URL:https://consejoconsultivodeandalucia.es/event/comision-permanente-27-07-2021/
LOCATION:Sede del Consejo Consultivo de Andalucía\, Consejo Consultivo de Andalucía\, Granada\, Granada\, 18009\, España
CATEGORIES:Comisión Permanente
ATTACH;FMTTYPE=image/jpeg:https://consejoconsultivodeandalucia.es/wp-content/uploads/2016/02/DSC41901.jpg
END:VEVENT
END:VCALENDAR