BEGIN:VCALENDAR
VERSION:2.0
PRODID:-//Consejo Consultivo de Andalucía - ECPv6.15.20//NONSGML v1.0//EN
CALSCALE:GREGORIAN
METHOD:PUBLISH
X-ORIGINAL-URL:https://consejoconsultivodeandalucia.es
X-WR-CALDESC:Eventos para Consejo Consultivo de Andalucía
REFRESH-INTERVAL;VALUE=DURATION:PT1H
X-Robots-Tag:noindex
X-PUBLISHED-TTL:PT1H
BEGIN:VTIMEZONE
TZID:Europe/Madrid
BEGIN:DAYLIGHT
TZOFFSETFROM:+0100
TZOFFSETTO:+0200
TZNAME:CEST
DTSTART:20210328T010000
END:DAYLIGHT
BEGIN:STANDARD
TZOFFSETFROM:+0200
TZOFFSETTO:+0100
TZNAME:CET
DTSTART:20211031T010000
END:STANDARD
BEGIN:DAYLIGHT
TZOFFSETFROM:+0100
TZOFFSETTO:+0200
TZNAME:CEST
DTSTART:20220327T010000
END:DAYLIGHT
BEGIN:STANDARD
TZOFFSETFROM:+0200
TZOFFSETTO:+0100
TZNAME:CET
DTSTART:20221030T010000
END:STANDARD
BEGIN:DAYLIGHT
TZOFFSETFROM:+0100
TZOFFSETTO:+0200
TZNAME:CEST
DTSTART:20230326T010000
END:DAYLIGHT
BEGIN:STANDARD
TZOFFSETFROM:+0200
TZOFFSETTO:+0100
TZNAME:CET
DTSTART:20231029T010000
END:STANDARD
BEGIN:DAYLIGHT
TZOFFSETFROM:+0100
TZOFFSETTO:+0200
TZNAME:CEST
DTSTART:20240331T010000
END:DAYLIGHT
BEGIN:STANDARD
TZOFFSETFROM:+0200
TZOFFSETTO:+0100
TZNAME:CET
DTSTART:20241027T010000
END:STANDARD
END:VTIMEZONE
BEGIN:VEVENT
DTSTART;TZID=Europe/Madrid:20230412T110000
DTEND;TZID=Europe/Madrid:20230412T140000
DTSTAMP:20260424T191817
CREATED:20230410T090319Z
LAST-MODIFIED:20230410T090319Z
UID:20313-1681297200-1681308000@consejoconsultivodeandalucia.es
SUMMARY:Comisión permanente
DESCRIPTION:
URL:https://consejoconsultivodeandalucia.es/event/comision-permanente-26/
LOCATION:Sede del Consejo Consultivo de Andalucía\, Consejo Consultivo de Andalucía\, Granada\, Granada\, 18009\, España
CATEGORIES:Comisión Permanente
END:VEVENT
BEGIN:VEVENT
DTSTART;TZID=Europe/Madrid:20230331T113000
DTEND;TZID=Europe/Madrid:20230331T170000
DTSTAMP:20260424T191817
CREATED:20230324T092358Z
LAST-MODIFIED:20230324T092358Z
UID:20236-1680262200-1680282000@consejoconsultivodeandalucia.es
SUMMARY:Comisión Permanente
DESCRIPTION:
URL:https://consejoconsultivodeandalucia.es/event/comision-permanente-25/
LOCATION:Sede del Consejo Consultivo de Andalucía\, Consejo Consultivo de Andalucía\, Granada\, Granada\, 18009\, España
CATEGORIES:Comisión Permanente
END:VEVENT
BEGIN:VEVENT
DTSTART;TZID=Europe/Madrid:20230330T091500
DTEND;TZID=Europe/Madrid:20230330T140000
DTSTAMP:20260424T191817
CREATED:20230324T092711Z
LAST-MODIFIED:20230324T092711Z
UID:20238-1680167700-1680184800@consejoconsultivodeandalucia.es
SUMMARY:Jornadas simplificación administrativa
DESCRIPTION:La presidenta del Consejo Consultivo de Andalucía participa en las jornadas de simplificación administrativa que tendrán lugar en el aulario del IAAP en Sevilla. Pronunciará la conferencia ‘La simplificación del procedimiento: entre la eficacia y la garantía’.
URL:https://consejoconsultivodeandalucia.es/event/jornadas-simplificacion-administrativa/
LOCATION:Aulario IAAP. Sevilla
CATEGORIES:Actos Institucionales
END:VEVENT
BEGIN:VEVENT
DTSTART;TZID=Europe/Madrid:20230329T090000
DTEND;TZID=Europe/Madrid:20230329T110000
DTSTAMP:20260424T191817
CREATED:20230314T122440Z
LAST-MODIFIED:20230314T122440Z
UID:20196-1680080400-1680087600@consejoconsultivodeandalucia.es
SUMMARY:Desayuno informativo 'Forum Europa. Tribuna de Andalucía'
DESCRIPTION:La presidenta del Consejo Consultivo de Andalucía asistirá al desayuno informativo ‘Forum Europa. Tribuna Andalucía’ con D. Antonio Sanz\, consejero de Presidencia\, Interior\, Diálogo Social y Simplificación Administrativa de la Junta de Andalucía. El acto estará presentado por Dña. Fátima Báñez\, presidenta de la Fundación CEOE.
URL:https://consejoconsultivodeandalucia.es/event/desayuno-informativo-forum-europa-tribuna-de-andalucia/
LOCATION:Hotel Alfonso XIII\, Sevilla
CATEGORIES:Actos Institucionales
END:VEVENT
BEGIN:VEVENT
DTSTART;TZID=Europe/Madrid:20230323T110000
DTEND;TZID=Europe/Madrid:20230323T140000
DTSTAMP:20260424T191817
CREATED:20230324T092226Z
LAST-MODIFIED:20230324T092226Z
UID:20234-1679569200-1679580000@consejoconsultivodeandalucia.es
SUMMARY:Comisión permanente
DESCRIPTION:
URL:https://consejoconsultivodeandalucia.es/event/comision-permanente-24/
LOCATION:Sede del Consejo Consultivo de Andalucía\, Consejo Consultivo de Andalucía\, Granada\, Granada\, 18009\, España
CATEGORIES:Comisión Permanente
END:VEVENT
BEGIN:VEVENT
DTSTART;TZID=Europe/Madrid:20230315T100000
DTEND;TZID=Europe/Madrid:20230315T110000
DTSTAMP:20260424T191817
CREATED:20230314T121922Z
LAST-MODIFIED:20230314T121922Z
UID:20194-1678874400-1678878000@consejoconsultivodeandalucia.es
SUMMARY:Presentación libro 'Doctrina de los consejos consultivos de España'
DESCRIPTION:La presidenta del Consejo Consultivo de Andalucía\, María Jesús Gallardo Castillo\, el consejero de Justicia\, José Antonio Nieto\, la presidenta del Consejo de Estado\, Magdalena Valerio y la directora de publicaciones de la editorial Colex\, Conchy Alonso asisten a la presentación del libro ‘Doctrina de los consejos consultivos de España 2021’ y a la presentación de una base de datos nacional.
URL:https://consejoconsultivodeandalucia.es/event/presentacion-libro-doctrina-de-los-consejos-consultivos-de-espana/
LOCATION:Sede del Consejo Consultivo de Andalucía\, Consejo Consultivo de Andalucía\, Granada\, Granada\, 18009\, España
CATEGORIES:Actos Institucionales
END:VEVENT
BEGIN:VEVENT
DTSTART;TZID=Europe/Madrid:20230314T110000
DTEND;TZID=Europe/Madrid:20230314T140000
DTSTAMP:20260424T191817
CREATED:20230309T133310Z
LAST-MODIFIED:20230309T133310Z
UID:20175-1678791600-1678802400@consejoconsultivodeandalucia.es
SUMMARY:Comisión Permanente
DESCRIPTION:
URL:https://consejoconsultivodeandalucia.es/event/comision-permanente-23/
LOCATION:Sede del Consejo Consultivo de Andalucía\, Consejo Consultivo de Andalucía\, Granada\, Granada\, 18009\, España
CATEGORIES:Comisión Permanente
END:VEVENT
BEGIN:VEVENT
DTSTART;TZID=Europe/Madrid:20230308T130000
DTEND;TZID=Europe/Madrid:20230308T140000
DTSTAMP:20260424T191817
CREATED:20230309T133134Z
LAST-MODIFIED:20230309T133351Z
UID:20173-1678280400-1678284000@consejoconsultivodeandalucia.es
SUMMARY:Toma de posesión nuevos consejeros
DESCRIPTION:La presidenta del Consejo Consultivo asiste a la toma de posesión de los nuevos consejeros
URL:https://consejoconsultivodeandalucia.es/event/toma-de-posesion-nuevos-consejeros/
LOCATION:San Telmo
CATEGORIES:Actos Institucionales
END:VEVENT
BEGIN:VEVENT
DTSTART;TZID=Europe/Madrid:20230228T103000
DTEND;TZID=Europe/Madrid:20230228T113000
DTSTAMP:20260424T191817
CREATED:20230309T130641Z
LAST-MODIFIED:20230309T130641Z
UID:20170-1677580200-1677583800@consejoconsultivodeandalucia.es
SUMMARY:Acto Institucional Día de Andalucía
DESCRIPTION:La presidenta del Consejo Consultivo de Andalucía acudió al acto institucional conmemorativo del Día de Andalucía que tuvo lugar el 28 de febrero en la sede del Parlamento de Andalucía
URL:https://consejoconsultivodeandalucia.es/event/acto-institucional-dia-de-andalucia/
LOCATION:Parlamento de Andalucía
END:VEVENT
BEGIN:VEVENT
DTSTART;TZID=Europe/Madrid:20230223T110000
DTEND;TZID=Europe/Madrid:20230223T140000
DTSTAMP:20260424T191817
CREATED:20230209T133455Z
LAST-MODIFIED:20230209T133455Z
UID:20084-1677150000-1677160800@consejoconsultivodeandalucia.es
SUMMARY:Comisión permanente
DESCRIPTION:
URL:https://consejoconsultivodeandalucia.es/event/comision-permanente-22/
LOCATION:Sede del Consejo Consultivo de Andalucía\, Consejo Consultivo de Andalucía\, Granada\, Granada\, 18009\, España
CATEGORIES:Comisión Permanente
END:VEVENT
BEGIN:VEVENT
DTSTART;TZID=Europe/Madrid:20230209T110000
DTEND;TZID=Europe/Madrid:20230209T140000
DTSTAMP:20260424T191817
CREATED:20230130T093441Z
LAST-MODIFIED:20230130T093441Z
UID:20050-1675940400-1675951200@consejoconsultivodeandalucia.es
SUMMARY:Comisión Permanente
DESCRIPTION:
URL:https://consejoconsultivodeandalucia.es/event/comision-permanente-21/
LOCATION:Sede del Consejo Consultivo de Andalucía\, Consejo Consultivo de Andalucía\, Granada\, Granada\, 18009\, España
CATEGORIES:Comisión Permanente
END:VEVENT
BEGIN:VEVENT
DTSTART;TZID=Europe/Madrid:20230130T093000
DTEND;TZID=Europe/Madrid:20230130T110000
DTSTAMP:20260424T191817
CREATED:20230130T093326Z
LAST-MODIFIED:20230130T093326Z
UID:20047-1675071000-1675076400@consejoconsultivodeandalucia.es
SUMMARY:Encuentro SER 'Agenda Andalucía Futura'
DESCRIPTION:La presidenta del Consejo Consultivo de Andalucía\, María Jesús Gallardo Castillo\, asiste en Sevilla al encuentro de la Cadena SER ‘Agenda Andalucía Futura’ con Antonio Sanz\, consejero de Presidencia\, Interior\, Diálogo Social y Simplificación Administrativa de la Junta de Andalucía. \n 
URL:https://consejoconsultivodeandalucia.es/event/encuentro-ser-agenda-andalucia-futura/
LOCATION:Setas de Sevilla
END:VEVENT
BEGIN:VEVENT
DTSTART;TZID=Europe/Madrid:20230125T110000
DTEND;TZID=Europe/Madrid:20230125T140000
DTSTAMP:20260424T191817
CREATED:20230116T125525Z
LAST-MODIFIED:20230116T125525Z
UID:20009-1674644400-1674655200@consejoconsultivodeandalucia.es
SUMMARY:Comisión Permanente
DESCRIPTION:
URL:https://consejoconsultivodeandalucia.es/event/comision-permanente-20/
LOCATION:Sede del Consejo Consultivo de Andalucía\, Consejo Consultivo de Andalucía\, Granada\, Granada\, 18009\, España
CATEGORIES:Comisión Permanente
END:VEVENT
BEGIN:VEVENT
DTSTART;TZID=Europe/Madrid:20230119T100000
DTEND;TZID=Europe/Madrid:20230119T130000
DTSTAMP:20260424T191817
CREATED:20230116T124601Z
LAST-MODIFIED:20230116T124601Z
UID:20001-1674122400-1674133200@consejoconsultivodeandalucia.es
SUMMARY:Pleno
DESCRIPTION:
URL:https://consejoconsultivodeandalucia.es/event/pleno-4/
CATEGORIES:Pleno
END:VEVENT
BEGIN:VEVENT
DTSTART;TZID=Europe/Madrid:20230116T120000
DTEND;TZID=Europe/Madrid:20230116T143000
DTSTAMP:20260424T191817
CREATED:20230116T125416Z
LAST-MODIFIED:20230116T125416Z
UID:20007-1673870400-1673879400@consejoconsultivodeandalucia.es
SUMMARY:Reunión virtual Consejo de Estado
DESCRIPTION:La presidenta del Consejo Consultivo de Andalucía\, María Jesús Gallardo Castillo\, participa en una reunión virtual con la presidenta del Consejo de Estado y todos los presidentes de los consejos consultivos de España.
URL:https://consejoconsultivodeandalucia.es/event/reunion-virtual-consejo-de-estado/
END:VEVENT
BEGIN:VEVENT
DTSTART;TZID=Europe/Madrid:20230112T110000
DTEND;TZID=Europe/Madrid:20230112T140000
DTSTAMP:20260424T191817
CREATED:20230116T124707Z
LAST-MODIFIED:20230116T124707Z
UID:20003-1673521200-1673532000@consejoconsultivodeandalucia.es
SUMMARY:Comisión Permanente
DESCRIPTION:
URL:https://consejoconsultivodeandalucia.es/event/comision-permanente-19/
LOCATION:Sede del Consejo Consultivo de Andalucía\, Consejo Consultivo de Andalucía\, Granada\, Granada\, 18009\, España
CATEGORIES:Comisión Permanente
END:VEVENT
BEGIN:VEVENT
DTSTART;TZID=Europe/Madrid:20230112T093000
DTEND;TZID=Europe/Madrid:20230112T103000
DTSTAMP:20260424T191817
CREATED:20230116T124914Z
LAST-MODIFIED:20230116T124914Z
UID:20005-1673515800-1673519400@consejoconsultivodeandalucia.es
SUMMARY:Visita del jefe del MADOC
DESCRIPTION:El nuevo jefe del Mando de Adiestramiento y Doctrina (MADOC) del Ejército de Tierra\, José Manuel de la Esperanza y Martín-Pinillos\, visita la sede del Consejo Consultivo de Andalucía tras su nombramiento como máximo responsable de la institución militar el pasado mes de noviembre.
URL:https://consejoconsultivodeandalucia.es/event/visita-del-jefe-del-madoc/
LOCATION:Sede del Consejo Consultivo de Andalucía\, Consejo Consultivo de Andalucía\, Granada\, Granada\, 18009\, España
CATEGORIES:Actos Institucionales
END:VEVENT
BEGIN:VEVENT
DTSTART;TZID=Europe/Madrid:20221223T100000
DTEND;TZID=Europe/Madrid:20221223T110000
DTSTAMP:20260424T191817
CREATED:20221223T105234Z
LAST-MODIFIED:20221223T105234Z
UID:19954-1671789600-1671793200@consejoconsultivodeandalucia.es
SUMMARY:Presentación de la Memoria 2021
DESCRIPTION:La presidenta del Consejo Consultivo de Andalucía se reúne en San Telmo con el presidente de la Junta de Andalucía\, para hacerle entrega de la memoria 2021. Previamente tomará posesión como consejera nata del Consejo la secretaria general de Administración Local\, María Luisa Ceballos.
URL:https://consejoconsultivodeandalucia.es/event/presentacion-de-la-memoria-2021/
LOCATION:San Telmo
CATEGORIES:Actos Institucionales
END:VEVENT
BEGIN:VEVENT
DTSTART;TZID=Europe/Madrid:20221221T110000
DTEND;TZID=Europe/Madrid:20221221T133000
DTSTAMP:20260424T191817
CREATED:20221207T111419Z
LAST-MODIFIED:20221207T111419Z
UID:19914-1671620400-1671629400@consejoconsultivodeandalucia.es
SUMMARY:Comisión permanente
DESCRIPTION:
URL:https://consejoconsultivodeandalucia.es/event/comision-permanente-18/
LOCATION:Sede del Consejo Consultivo de Andalucía\, Consejo Consultivo de Andalucía\, Granada\, Granada\, 18009\, España
CATEGORIES:Comisión Permanente
END:VEVENT
BEGIN:VEVENT
DTSTART;TZID=Europe/Madrid:20221219T113000
DTEND;TZID=Europe/Madrid:20221219T130000
DTSTAMP:20260424T191817
CREATED:20221207T111311Z
LAST-MODIFIED:20221207T111311Z
UID:19911-1671449400-1671454800@consejoconsultivodeandalucia.es
SUMMARY:Reunión anual de directores del Instituto Cervantes
DESCRIPTION:La presidenta del Consejo Consultivo asistirá a la reunión anual de directores del Instituto Cervantes bajo la presidencia de Su Majestad la Reina
URL:https://consejoconsultivodeandalucia.es/event/reunion-anual-de-directores-del-instituto-cervantes/
LOCATION:Hospital Real\, Granada
CATEGORIES:Actos Institucionales
END:VEVENT
BEGIN:VEVENT
DTSTART;TZID=Europe/Madrid:20221212T200000
DTEND;TZID=Europe/Madrid:20221212T220000
DTSTAMP:20260424T191817
CREATED:20221207T111101Z
LAST-MODIFIED:20221207T111101Z
UID:19908-1670875200-1670882400@consejoconsultivodeandalucia.es
SUMMARY:Entrega Premios Ideales 2022
DESCRIPTION:La presidenta del Consejo Consultivo asistirá a la entrega de los premios Ideales 2022 organizados por el periódico Ideal
URL:https://consejoconsultivodeandalucia.es/event/entrega-premios-ideales-2022/
LOCATION:Palacio de Congresos
CATEGORIES:Actos Institucionales
END:VEVENT
BEGIN:VEVENT
DTSTART;TZID=Europe/Madrid:20221207T093000
DTEND;TZID=Europe/Madrid:20221207T130000
DTSTAMP:20260424T191817
CREATED:20221128T110304Z
LAST-MODIFIED:20221128T110304Z
UID:19882-1670405400-1670418000@consejoconsultivodeandalucia.es
SUMMARY:Comisión permanente
DESCRIPTION:
URL:https://consejoconsultivodeandalucia.es/event/comision-permanente-17/
LOCATION:Sede del Consejo Consultivo de Andalucía\, Consejo Consultivo de Andalucía\, Granada\, Granada\, 18009\, España
CATEGORIES:Comisión Permanente
END:VEVENT
BEGIN:VEVENT
DTSTART;TZID=Europe/Madrid:20221129T090000
DTEND;TZID=Europe/Madrid:20221129T120000
DTSTAMP:20260424T191817
CREATED:20221128T105850Z
LAST-MODIFIED:20221128T105850Z
UID:19879-1669712400-1669723200@consejoconsultivodeandalucia.es
SUMMARY:Desayuno informativo del Fórum Europa
DESCRIPTION:La presidenta del Consejo Consultivo de Andalucía asistirá al desayuno informativo del Fórum Europa. Tribuna Andalucía con Dña. Marifrán Carazo\, consejera de Fomento
URL:https://consejoconsultivodeandalucia.es/event/desayuno-informativo-del-forum-europa/
LOCATION:Hotel Alfonso XIII\, Sevilla
CATEGORIES:Actos Institucionales
END:VEVENT
BEGIN:VEVENT
DTSTART;TZID=Europe/Madrid:20221128T193000
DTEND;TZID=Europe/Madrid:20221128T213000
DTSTAMP:20260424T191817
CREATED:20221128T105626Z
LAST-MODIFIED:20221128T105626Z
UID:19876-1669663800-1669671000@consejoconsultivodeandalucia.es
SUMMARY:Conferencia en la Real Academia Sevillana de Legislación y Jurisprudencia
DESCRIPTION:La presidenta del Consejo Consultivo de Andalucía asistirá a la conferencia del catedrático emérito de Derecho Administrativo de la Universidad Carlos III\,  D. Tomás de la Quadra-Salcedo y Fernández del Castillo\, titulada ‘El derecho y las nuevas tecnologías digitales’ organizada por la Real Academia Sevillana de Legislación y Jurisprudencia .
URL:https://consejoconsultivodeandalucia.es/event/conferencia-en-la-real-academia-sevillana-de-legislacion-y-jurisprudencia/
LOCATION:Colegio Notarial de Andalucía
CATEGORIES:Actos Institucionales
END:VEVENT
BEGIN:VEVENT
DTSTART;TZID=Europe/Madrid:20221128T120000
DTEND;TZID=Europe/Madrid:20221128T140000
DTSTAMP:20260424T191817
CREATED:20221128T105008Z
LAST-MODIFIED:20221128T105008Z
UID:19871-1669636800-1669644000@consejoconsultivodeandalucia.es
SUMMARY:XL Aniversario de la constitución del Parlamento de Andalucía
DESCRIPTION:La presidenta del Consejo Consultivo asiste al pleno institucional con motivo del XL aniversario de la constitución del Parlamento de Andalucía
URL:https://consejoconsultivodeandalucia.es/event/xl-aniversario-de-la-constitucion-del-parlamento-de-andalucia/
LOCATION:Real Alcázar de Sevilla
CATEGORIES:Actos Institucionales
END:VEVENT
BEGIN:VEVENT
DTSTART;TZID=Europe/Madrid:20221124T110000
DTEND;TZID=Europe/Madrid:20221124T140000
DTSTAMP:20260424T191817
CREATED:20221110T110744Z
LAST-MODIFIED:20221110T110744Z
UID:19828-1669287600-1669298400@consejoconsultivodeandalucia.es
SUMMARY:Comisión permanente
DESCRIPTION:
URL:https://consejoconsultivodeandalucia.es/event/comision-permanente-16/
LOCATION:Sede del Consejo Consultivo de Andalucía\, Consejo Consultivo de Andalucía\, Granada\, Granada\, 18009\, España
CATEGORIES:Comisión Permanente
END:VEVENT
BEGIN:VEVENT
DTSTART;TZID=Europe/Madrid:20221121T113000
DTEND;TZID=Europe/Madrid:20221121T130000
DTSTAMP:20260424T191817
CREATED:20221121T114040Z
LAST-MODIFIED:20221121T114040Z
UID:19851-1669030200-1669035600@consejoconsultivodeandalucia.es
SUMMARY:V Edición de los premios CEMCI
DESCRIPTION:La presidenta del Consejo Consultivo asiste a la V edición de los premios Cemci
URL:https://consejoconsultivodeandalucia.es/event/v-edicion-de-los-premios-cemci/
LOCATION:Diputación de Granada
CATEGORIES:Actos Institucionales
END:VEVENT
BEGIN:VEVENT
DTSTART;TZID=Europe/Madrid:20221117T083000
DTEND;TZID=Europe/Madrid:20221118T090000
DTSTAMP:20260424T191817
CREATED:20221115T095919Z
LAST-MODIFIED:20221115T095919Z
UID:19838-1668673800-1668762000@consejoconsultivodeandalucia.es
SUMMARY:XXIV Jornadas de estudio del Gabinete Jurídico de la Junta de Andalucía
DESCRIPTION:La presidenta del Consejo Consultivo de Andalucía participa en la inauguración de las jornadas del Gabinete Jurídico de la Junta de Andalucía
URL:https://consejoconsultivodeandalucia.es/event/xxiv-jornadas-de-estudio-del-gabinete-juridico-de-la-junta-de-andalucia/
LOCATION:Instituto Andaluz de Administración Pública\, Sevilla
CATEGORIES:Actos Institucionales
END:VEVENT
BEGIN:VEVENT
DTSTART;TZID=Europe/Madrid:20221110T190000
DTEND;TZID=Europe/Madrid:20221110T210000
DTSTAMP:20260424T191817
CREATED:20221103T105745Z
LAST-MODIFIED:20221103T105745Z
UID:19803-1668106800-1668114000@consejoconsultivodeandalucia.es
SUMMARY:XXVIII Premio Pelayo para juristas de reconocido prestigio
DESCRIPTION:La presidenta del Consejo Consultivo de Andalucía acude al acto del XXVIII Premio Pelayo para juristas de reconocido prestigio que se celebrará en Madrid.
URL:https://consejoconsultivodeandalucia.es/event/xxviii-premio-pelayo-para-juristas-de-reconocido-prestigio/
LOCATION:Madrid
CATEGORIES:Actos Institucionales
END:VEVENT
BEGIN:VEVENT
DTSTART;TZID=Europe/Madrid:20221109T093000
DTEND;TZID=Europe/Madrid:20221109T130000
DTSTAMP:20260424T191817
CREATED:20221103T105445Z
LAST-MODIFIED:20221103T105445Z
UID:19801-1667986200-1667998800@consejoconsultivodeandalucia.es
SUMMARY:Comisión permanente
DESCRIPTION:
URL:https://consejoconsultivodeandalucia.es/event/comision-permanente-15/
LOCATION:Sede del Consejo Consultivo de Andalucía\, Consejo Consultivo de Andalucía\, Granada\, Granada\, 18009\, España
CATEGORIES:Comisión Permanente
END:VEVENT
END:VCALENDAR