BEGIN:VCALENDAR
VERSION:2.0
PRODID:-//Consejo Consultivo de Andalucía - ECPv6.15.20//NONSGML v1.0//EN
CALSCALE:GREGORIAN
METHOD:PUBLISH
X-ORIGINAL-URL:https://consejoconsultivodeandalucia.es
X-WR-CALDESC:Eventos para Consejo Consultivo de Andalucía
REFRESH-INTERVAL;VALUE=DURATION:PT1H
X-Robots-Tag:noindex
X-PUBLISHED-TTL:PT1H
BEGIN:VTIMEZONE
TZID:Europe/Madrid
BEGIN:DAYLIGHT
TZOFFSETFROM:+0100
TZOFFSETTO:+0200
TZNAME:CEST
DTSTART:20220327T010000
END:DAYLIGHT
BEGIN:STANDARD
TZOFFSETFROM:+0200
TZOFFSETTO:+0100
TZNAME:CET
DTSTART:20221030T010000
END:STANDARD
BEGIN:DAYLIGHT
TZOFFSETFROM:+0100
TZOFFSETTO:+0200
TZNAME:CEST
DTSTART:20230326T010000
END:DAYLIGHT
BEGIN:STANDARD
TZOFFSETFROM:+0200
TZOFFSETTO:+0100
TZNAME:CET
DTSTART:20231029T010000
END:STANDARD
BEGIN:DAYLIGHT
TZOFFSETFROM:+0100
TZOFFSETTO:+0200
TZNAME:CEST
DTSTART:20240331T010000
END:DAYLIGHT
BEGIN:STANDARD
TZOFFSETFROM:+0200
TZOFFSETTO:+0100
TZNAME:CET
DTSTART:20241027T010000
END:STANDARD
END:VTIMEZONE
BEGIN:VEVENT
DTSTART;TZID=Europe/Madrid:20231020T123000
DTEND;TZID=Europe/Madrid:20231020T140000
DTSTAMP:20260424T145005
CREATED:20231020T122112Z
LAST-MODIFIED:20231020T122112Z
UID:21041-1697805000-1697810400@consejoconsultivodeandalucia.es
SUMMARY:35 aniversario Cámara de Cuentas
DESCRIPTION:La presidenta del Consejo Consultivo de Andalucía asiste al acto conmemorativo del 35 aniversario de la creación de la Cámara de Cuentas.
URL:https://consejoconsultivodeandalucia.es/event/35-aniversario-camara-de-cuentas/
LOCATION:Alcázar de Sevilla
CATEGORIES:Actos Institucionales
END:VEVENT
BEGIN:VEVENT
DTSTART;TZID=Europe/Madrid:20231019T203000
DTEND;TZID=Europe/Madrid:20231019T220000
DTSTAMP:20260424T145005
CREATED:20231020T121800Z
LAST-MODIFIED:20231020T121800Z
UID:21038-1697747400-1697752800@consejoconsultivodeandalucia.es
SUMMARY:30 aniversario de la creación del Cuerpo de Letrados de la Junta
DESCRIPTION:La presidenta del Consejo Consultivo de Andalucía\, María Jesús Gallardo\, asiste al acto conmemorativo del 30 aniversario de la creación del Cuerpo de Letrados de la Junta de Andalucía.
URL:https://consejoconsultivodeandalucia.es/event/30-aniversario-de-la-creacion-del-cuerpo-de-letrados-de-la-junta/
LOCATION:Casa Palacio Guardiola\, Sevilla
CATEGORIES:Actos Institucionales
END:VEVENT
BEGIN:VEVENT
DTSTART;TZID=Europe/Madrid:20231018T200000
DTEND;TZID=Europe/Madrid:20231018T210000
DTSTAMP:20260424T145005
CREATED:20231020T121534Z
LAST-MODIFIED:20231020T121534Z
UID:21036-1697659200-1697662800@consejoconsultivodeandalucia.es
SUMMARY:Conferencia inaugural Real Academia de Legislación y Jurisprudencia
DESCRIPTION:La presidenta del Consejo Consultivo de Andalucía\, María Jesús Gallardo Castillo\, pronuncia la conferencia inaugural en la Real Academia de Legislación y Jurisprudencia de Sevilla bajo el título: Claves para el entendimiento y aplicación de la doctrina de la pérdida de oportunidad en el ámbito de la responsabilidad sanitaria. 
URL:https://consejoconsultivodeandalucia.es/event/conferencia-inaugural-real-academia-de-legislacion-y-jurisprudencia/
LOCATION:Colegio Notarial de Andalucía
CATEGORIES:Actos Institucionales
END:VEVENT
BEGIN:VEVENT
DTSTART;TZID=Europe/Madrid:20231011T103000
DTEND;TZID=Europe/Madrid:20231011T140000
DTSTAMP:20260424T145005
CREATED:20231020T121223Z
LAST-MODIFIED:20231020T121223Z
UID:21034-1697020200-1697032800@consejoconsultivodeandalucia.es
SUMMARY:Comisión Permanente
DESCRIPTION:
URL:https://consejoconsultivodeandalucia.es/event/comision-permanente-40/
LOCATION:Sede del Consejo Consultivo de Andalucía\, Consejo Consultivo de Andalucía\, Granada\, Granada\, 18009\, España
CATEGORIES:Comisión Permanente
END:VEVENT
BEGIN:VEVENT
DTSTART;TZID=Europe/Madrid:20231009T090000
DTEND;TZID=Europe/Madrid:20231009T100000
DTSTAMP:20260424T145005
CREATED:20231020T121117Z
LAST-MODIFIED:20231020T121117Z
UID:21032-1696842000-1696845600@consejoconsultivodeandalucia.es
SUMMARY:Visita institucional de la consejera de Fomento
DESCRIPTION:La consejera de Fomento\, Rocío Díaz\, visita el Consejo Consultivo en una visita institucional
URL:https://consejoconsultivodeandalucia.es/event/visita-institucional-de-la-consejera-de-fomento/
LOCATION:Sede del Consejo Consultivo de Andalucía\, Consejo Consultivo de Andalucía\, Granada\, Granada\, 18009\, España
CATEGORIES:Actos Institucionales
END:VEVENT
BEGIN:VEVENT
DTSTART;TZID=Europe/Madrid:20231003T093000
DTEND;TZID=Europe/Madrid:20231003T143000
DTSTAMP:20260424T145005
CREATED:20230922T092844Z
LAST-MODIFIED:20230922T092844Z
UID:20921-1696325400-1696343400@consejoconsultivodeandalucia.es
SUMMARY:Jornada función consultiva y entidades locales
DESCRIPTION:La presidenta del Consejo Consultivo de Andalucía\, María Jesús Gallardo Castillo\, el consejero Juan Antonio Carrillo Donaire\, la consejera María Luisa Roca Fernández-Castanys y la jefa del Gabinete Jurídico de la Junta de Andalucía\, María Dolores Pérez Pino\, participan en la jornada Función consultiva y entidades locales que se celebrará en el Centro de Estudios Municipales y de Cooperación Internacional (CEMCI).
URL:https://consejoconsultivodeandalucia.es/event/jornada-funcion-consultiva-y-entidades-locales/
LOCATION:CEMCI\, Plaza Mariana Pineda\, 8\, Granada\, España
END:VEVENT
BEGIN:VEVENT
DTSTART;TZID=Europe/Madrid:20230928T110000
DTEND;TZID=Europe/Madrid:20230928T130000
DTSTAMP:20260424T145005
CREATED:20230922T092233Z
LAST-MODIFIED:20230922T092233Z
UID:20919-1695898800-1695906000@consejoconsultivodeandalucia.es
SUMMARY:Pleno
DESCRIPTION:
URL:https://consejoconsultivodeandalucia.es/event/pleno-5/
LOCATION:Sede del Consejo Consultivo de Andalucía\, Consejo Consultivo de Andalucía\, Granada\, Granada\, 18009\, España
CATEGORIES:Pleno
END:VEVENT
BEGIN:VEVENT
DTSTART;TZID=Europe/Madrid:20230927T120000
DTEND;TZID=Europe/Madrid:20230927T140000
DTSTAMP:20260424T145005
CREATED:20230922T092134Z
LAST-MODIFIED:20230922T092134Z
UID:20917-1695816000-1695823200@consejoconsultivodeandalucia.es
SUMMARY:Ponencia de Régimen Interior
DESCRIPTION:
URL:https://consejoconsultivodeandalucia.es/event/ponencia-de-regimen-interior/
LOCATION:Sede del Consejo Consultivo de Andalucía\, Consejo Consultivo de Andalucía\, Granada\, Granada\, 18009\, España
END:VEVENT
BEGIN:VEVENT
DTSTART;TZID=Europe/Madrid:20230927T093000
DTEND;TZID=Europe/Madrid:20230927T133000
DTSTAMP:20260424T145005
CREATED:20230922T091716Z
LAST-MODIFIED:20230922T091716Z
UID:20915-1695807000-1695821400@consejoconsultivodeandalucia.es
SUMMARY:Comisión Permanente
DESCRIPTION:
URL:https://consejoconsultivodeandalucia.es/event/comision-permanente-39/
LOCATION:Granada
CATEGORIES:Comisión Permanente
END:VEVENT
BEGIN:VEVENT
DTSTART;TZID=Europe/Madrid:20230925T090000
DTEND;TZID=Europe/Madrid:20230925T140000
DTSTAMP:20260424T145005
CREATED:20230922T093832Z
LAST-MODIFIED:20230922T093832Z
UID:20929-1695632400-1695650400@consejoconsultivodeandalucia.es
SUMMARY:Curso de Procedimiento Administrativo
DESCRIPTION:La presidenta del Consejo Consultivo\, María Jesús Gallardo Castillo\, junto con la consejera María Luisa Roca\, imparten el curso de Procedimiento Administrativo que tendrá lugar en la Subdelegación del Gobierno de Jaén.
URL:https://consejoconsultivodeandalucia.es/event/curso-de-procedimiento-administrativo-2/
LOCATION:Subdelegación del Gobierno de Jaén
END:VEVENT
BEGIN:VEVENT
DTSTART;TZID=Europe/Madrid:20230922T090000
DTEND;TZID=Europe/Madrid:20230922T140000
DTSTAMP:20260424T145005
CREATED:20230922T093155Z
LAST-MODIFIED:20230922T093541Z
UID:20923-1695373200-1695391200@consejoconsultivodeandalucia.es
SUMMARY:Curso de Procedimiento Administrativo
DESCRIPTION:La presidenta del Consejo Consultivo\, María Jesús Gallardo\, junto con la consejera María Luisa Roca participa en el curso de Procedimiento Administrativo que tendrá lugar en la Subdelegación del Gobierno en Jaén
URL:https://consejoconsultivodeandalucia.es/event/curso-de-procedimiento-administrativo/
LOCATION:Granada
END:VEVENT
BEGIN:VEVENT
DTSTART;TZID=Europe/Madrid:20230919T103000
DTEND;TZID=Europe/Madrid:20230919T140000
DTSTAMP:20260424T145005
CREATED:20230922T091457Z
LAST-MODIFIED:20230922T091457Z
UID:20911-1695119400-1695132000@consejoconsultivodeandalucia.es
SUMMARY:Comisión Permanente
DESCRIPTION:
URL:https://consejoconsultivodeandalucia.es/event/comision-permanente-38/
LOCATION:Granada
CATEGORIES:Comisión Permanente
END:VEVENT
BEGIN:VEVENT
DTSTART;TZID=Europe/Madrid:20230918T200000
DTEND;TZID=Europe/Madrid:20230918T220000
DTSTAMP:20260424T145005
CREATED:20230922T091600Z
LAST-MODIFIED:20230922T091600Z
UID:20913-1695067200-1695074400@consejoconsultivodeandalucia.es
SUMMARY:Apertura del Año Judicial
DESCRIPTION:La presidenta del Consejo Consultivo de Andalucía asiste al acto de apertura del año judicial en Andalucía que tiene lugar en la Real Chanchillería.
URL:https://consejoconsultivodeandalucia.es/event/apertura-del-ano-judicial-2/
LOCATION:Granada
CATEGORIES:Actos Institucionales
END:VEVENT
BEGIN:VEVENT
DTSTART;TZID=Europe/Madrid:20230918T090000
DTEND;TZID=Europe/Madrid:20230918T140000
DTSTAMP:20260424T145005
CREATED:20230922T091311Z
LAST-MODIFIED:20230922T093623Z
UID:20909-1695027600-1695045600@consejoconsultivodeandalucia.es
SUMMARY:Curso de Procedimiento Administrativo
DESCRIPTION:La presidenta del Consejo Consultivo\, María Jesús Gallardo Castillo\, junto con la consejera María Luisa Roca\, participan en el curso de Procedimiento Administrativo en la Subdelegación del Gobierno de Jaén.
URL:https://consejoconsultivodeandalucia.es/event/jornada-de-procedimiento-administrativo/
LOCATION:Granada
END:VEVENT
BEGIN:VEVENT
DTSTART;TZID=Europe/Madrid:20230915T090000
DTEND;TZID=Europe/Madrid:20230915T140000
DTSTAMP:20260424T145005
CREATED:20230922T090416Z
LAST-MODIFIED:20230922T093501Z
UID:20907-1694768400-1694786400@consejoconsultivodeandalucia.es
SUMMARY:Curso de Procedimiento Administrativo
DESCRIPTION:La presidenta del Consejo Consultivo de Andalucía\, María Jesús Gallardo Castillo\, junto con la consejera María Luisa Roca\, imparten un curso sobre procedimiento administrativo en la Subdelegación del Gobierno de Jaén
URL:https://consejoconsultivodeandalucia.es/event/jornadas-procedimiento-administrativo/
LOCATION:Granada
END:VEVENT
BEGIN:VEVENT
DTSTART;TZID=Europe/Madrid:20230726T103000
DTEND;TZID=Europe/Madrid:20230726T133000
DTSTAMP:20260424T145005
CREATED:20230922T090041Z
LAST-MODIFIED:20230922T090041Z
UID:20905-1690367400-1690378200@consejoconsultivodeandalucia.es
SUMMARY:Comisión permanente
DESCRIPTION:
URL:https://consejoconsultivodeandalucia.es/event/comision-permanente-37/
LOCATION:Granada
CATEGORIES:Comisión Permanente
END:VEVENT
BEGIN:VEVENT
DTSTART;TZID=Europe/Madrid:20230720T103000
DTEND;TZID=Europe/Madrid:20230720T140000
DTSTAMP:20260424T145005
CREATED:20230922T085917Z
LAST-MODIFIED:20230922T085917Z
UID:20903-1689849000-1689861600@consejoconsultivodeandalucia.es
SUMMARY:Comisión permanente
DESCRIPTION:
URL:https://consejoconsultivodeandalucia.es/event/comision-permanente-36/
LOCATION:Sede del Consejo Consultivo de Andalucía\, Consejo Consultivo de Andalucía\, Granada\, Granada\, 18009\, España
CATEGORIES:Comisión Permanente
END:VEVENT
BEGIN:VEVENT
DTSTART;TZID=Europe/Madrid:20230713T103000
DTEND;TZID=Europe/Madrid:20230713T140000
DTSTAMP:20260424T145005
CREATED:20230704T122645Z
LAST-MODIFIED:20230704T122645Z
UID:20673-1689244200-1689256800@consejoconsultivodeandalucia.es
SUMMARY:Comisión permanente
DESCRIPTION:
URL:https://consejoconsultivodeandalucia.es/event/comision-permanente-35/
LOCATION:Sede del Consejo Consultivo de Andalucía\, Consejo Consultivo de Andalucía\, Granada\, Granada\, 18009\, España
CATEGORIES:Comisión Permanente
END:VEVENT
BEGIN:VEVENT
DTSTART;TZID=Europe/Madrid:20230705T190000
DTEND;TZID=Europe/Madrid:20230705T200000
DTSTAMP:20260424T145005
CREATED:20230705T103757Z
LAST-MODIFIED:20230705T103757Z
UID:20682-1688583600-1688587200@consejoconsultivodeandalucia.es
SUMMARY:Presentación de la trilogía de Fernando García Rubio
DESCRIPTION:La presidenta del Consejo Consultivo asiste a la presentación de la trilogía de la ciudad del autor Fernando García Rubio compuesta por los libros: El patrimonio cultural. Situaciones locales y protección universal. Un estudio jurídico sobre el patrimonio cultural local; El urbanismo del suelo urbano. Por un desarrollo urbano inteligente\, inclusivo y que preserve la belleza en tiempos postpandémicos y Derecho a la vivienda versus derecho de propiedad urbana. La necesaria ponderación y su plasmación en la Ley por el derecho a la vivienda. \n 
URL:https://consejoconsultivodeandalucia.es/event/presentacion-de-la-trilogia-de-fernando-garcia-rubio/
LOCATION:Madrid
CATEGORIES:Actos Institucionales
END:VEVENT
BEGIN:VEVENT
DTSTART;TZID=Europe/Madrid:20230705T090000
DTEND;TZID=Europe/Madrid:20230705T110000
DTSTAMP:20260424T145005
CREATED:20230704T123052Z
LAST-MODIFIED:20230704T123052Z
UID:20675-1688547600-1688554800@consejoconsultivodeandalucia.es
SUMMARY:Aniversario del nacimiento de Blas Infante
DESCRIPTION:La presidenta del Consejo Consultivo de Andalucía\, María Jesús Gallardo Castillo\, asiste al acto homenaje por el aniversario del nacimiento de Blas Infante que tendrá lugar en el Parlamento de Andalucía. En nombre del Consejo Consultivo la presidenta participará en la ofrenda floral frente a la estatua del Padre de la Patria Andaluza.
URL:https://consejoconsultivodeandalucia.es/event/aniversario-del-nacimiento-de-blas-infante/
LOCATION:Parlamento de Andalucía
CATEGORIES:Actos Institucionales
END:VEVENT
BEGIN:VEVENT
DTSTART;TZID=Europe/Madrid:20230704T133000
DTEND;TZID=Europe/Madrid:20230704T153000
DTSTAMP:20260424T145005
CREATED:20230704T121233Z
LAST-MODIFIED:20230704T121233Z
UID:20666-1688477400-1688484600@consejoconsultivodeandalucia.es
SUMMARY:Toma de posesión del rector de la Universidad de Jaén
DESCRIPTION:La presidenta del Consejo Consultivo\, María Jesús Gallardo Castillo\, asiste al acto de toma de posesión del catedrático Nicolás Ruiz Reyes como rector de la Universidad de Jaén.
URL:https://consejoconsultivodeandalucia.es/event/toma-de-posesion-del-rector-de-la-universidad-de-jaen/
LOCATION:Palacio de San Telmo
CATEGORIES:Actos Institucionales
END:VEVENT
BEGIN:VEVENT
DTSTART;TZID=Europe/Madrid:20230704T090000
DTEND;TZID=Europe/Madrid:20230704T100000
DTSTAMP:20260424T145005
CREATED:20230704T121041Z
LAST-MODIFIED:20230704T121041Z
UID:20664-1688461200-1688464800@consejoconsultivodeandalucia.es
SUMMARY:Comisión Permanente
DESCRIPTION:
URL:https://consejoconsultivodeandalucia.es/event/comision-permanente-34/
LOCATION:Sede del Consejo Consultivo de Andalucía\, Consejo Consultivo de Andalucía\, Granada\, Granada\, 18009\, España
CATEGORIES:Comisión Permanente
END:VEVENT
BEGIN:VEVENT
DTSTART;TZID=Europe/Madrid:20230630T120000
DTEND;TZID=Europe/Madrid:20230630T140000
DTSTAMP:20260424T145005
CREATED:20230704T120947Z
LAST-MODIFIED:20230704T120947Z
UID:20660-1688126400-1688133600@consejoconsultivodeandalucia.es
SUMMARY:Ponencia en la Comisión Jurídica Asesora de Cataluña
DESCRIPTION:La presidenta del Consejo Consultivo de Andalucía\, María Jesús Gallardo Castillo\, participa en la sesión de responsabilidad patrimonial: Las claves de la pérdida de oportunidad organizada por la Comisión Jurídica Asesora de Cataluña donde pronunciará la conferencia Las claves de la pérdida de oportunidad: cómo\, cuándo y cuánto se indemniza.
URL:https://consejoconsultivodeandalucia.es/event/ponencia-en-la-comision-juridica-asesora-de-cataluna/
LOCATION:Barcelona
CATEGORIES:Actos Institucionales
END:VEVENT
BEGIN:VEVENT
DTSTART;TZID=Europe/Madrid:20230628T103000
DTEND;TZID=Europe/Madrid:20230628T133000
DTSTAMP:20260424T145005
CREATED:20230704T120538Z
LAST-MODIFIED:20230704T120627Z
UID:20658-1687948200-1687959000@consejoconsultivodeandalucia.es
SUMMARY:Comisión permanente
DESCRIPTION:
URL:https://consejoconsultivodeandalucia.es/event/comision-permanente-33/
LOCATION:Sede del Consejo Consultivo de Andalucía\, Consejo Consultivo de Andalucía\, Granada\, Granada\, 18009\, España
CATEGORIES:Comisión Permanente
END:VEVENT
BEGIN:VEVENT
DTSTART;TZID=Europe/Madrid:20230620T140000
DTEND;TZID=Europe/Madrid:20230620T160000
DTSTAMP:20260424T145005
CREATED:20230620T045922Z
LAST-MODIFIED:20230620T045923Z
UID:20628-1687269600-1687276800@consejoconsultivodeandalucia.es
SUMMARY:Encuentro con el rector de la UJA
DESCRIPTION:La presidenta del Consejo Consultivo se encontrará con el nuevo rector de la Universidad de Jaén (UJA) Nicolás Ruiz Reyes
URL:https://consejoconsultivodeandalucia.es/event/encuentro-con-el-rector-de-la-uja/
LOCATION:Jaén
END:VEVENT
BEGIN:VEVENT
DTSTART;TZID=Europe/Madrid:20230619T120000
DTEND;TZID=Europe/Madrid:20230619T130000
DTSTAMP:20260424T145005
CREATED:20230613T094929Z
LAST-MODIFIED:20230613T095022Z
UID:20610-1687176000-1687179600@consejoconsultivodeandalucia.es
SUMMARY:Presentación en Madrid del libro 'Doctrina de los consejos consultivos de España 2021'
DESCRIPTION:La presidenta del Consejo Consultivo de Andalucía participa en Madrid en la presentación del libro Doctrina de los consejos consultivos de España 2021 que ha sido coordinado desde Andalucía. El acto\, que tendrá lugar en el Consejo de Estado\, estará presidido por la presidenta del Consejo de Estado\, Magdalena Valerio.
URL:https://consejoconsultivodeandalucia.es/event/presentacion-libro-doctrina-consejos-consultivos-de-espana/
LOCATION:Consejo de Estado
CATEGORIES:Actos Institucionales
END:VEVENT
BEGIN:VEVENT
DTSTART;TZID=Europe/Madrid:20230615T093000
DTEND;TZID=Europe/Madrid:20230615T130000
DTSTAMP:20260424T145005
CREATED:20230613T093553Z
LAST-MODIFIED:20230613T093553Z
UID:20601-1686821400-1686834000@consejoconsultivodeandalucia.es
SUMMARY:Comisión Permanente
DESCRIPTION:
URL:https://consejoconsultivodeandalucia.es/event/comision-permanente-31/
LOCATION:Sede del Consejo Consultivo de Andalucía\, Consejo Consultivo de Andalucía\, Granada\, Granada\, 18009\, España
CATEGORIES:Comisión Permanente
END:VEVENT
BEGIN:VEVENT
DTSTART;TZID=Europe/Madrid:20230614T170000
DTEND;TZID=Europe/Madrid:20230614T190000
DTSTAMP:20260424T145005
CREATED:20230613T094536Z
LAST-MODIFIED:20230613T094536Z
UID:20608-1686762000-1686769200@consejoconsultivodeandalucia.es
SUMMARY:Ponencia especial
DESCRIPTION:
URL:https://consejoconsultivodeandalucia.es/event/ponencia-especial/
LOCATION:Sede del Consejo Consultivo de Andalucía\, Consejo Consultivo de Andalucía\, Granada\, Granada\, 18009\, España
END:VEVENT
BEGIN:VEVENT
DTSTART;TZID=Europe/Madrid:20230613T120000
DTEND;TZID=Europe/Madrid:20230613T133000
DTSTAMP:20260424T145005
CREATED:20230613T094424Z
LAST-MODIFIED:20230613T094424Z
UID:20605-1686657600-1686663000@consejoconsultivodeandalucia.es
SUMMARY:Conmemoración 179 aniversario de la Guardia Civil
DESCRIPTION:La presidenta del Consejo Consultivo de Andalucía asiste a los actos de conmemoración del 179 aniversario de la fundación de la Guardia Civil que tiene lugar en el acuartelamiento de la Comandancia.
URL:https://consejoconsultivodeandalucia.es/event/conmemoracion-179-aniversario-de-la-guardia-civil/
LOCATION:Comandancia Guardia Civil Granada
CATEGORIES:Actos Institucionales
END:VEVENT
BEGIN:VEVENT
DTSTART;TZID=Europe/Madrid:20230601T103000
DTEND;TZID=Europe/Madrid:20230601T143000
DTSTAMP:20260424T145005
CREATED:20230613T093703Z
LAST-MODIFIED:20230613T093703Z
UID:20603-1685615400-1685629800@consejoconsultivodeandalucia.es
SUMMARY:Comisión Permanente
DESCRIPTION:
URL:https://consejoconsultivodeandalucia.es/event/comision-permanente-32/
LOCATION:Sede del Consejo Consultivo de Andalucía\, Consejo Consultivo de Andalucía\, Granada\, Granada\, 18009\, España
CATEGORIES:Comisión Permanente
END:VEVENT
END:VCALENDAR