BEGIN:VCALENDAR
VERSION:2.0
PRODID:-//Consejo Consultivo de Andalucía - ECPv6.15.20//NONSGML v1.0//EN
CALSCALE:GREGORIAN
METHOD:PUBLISH
X-ORIGINAL-URL:https://consejoconsultivodeandalucia.es
X-WR-CALDESC:Eventos para Consejo Consultivo de Andalucía
REFRESH-INTERVAL;VALUE=DURATION:PT1H
X-Robots-Tag:noindex
X-PUBLISHED-TTL:PT1H
BEGIN:VTIMEZONE
TZID:Europe/Madrid
BEGIN:DAYLIGHT
TZOFFSETFROM:+0100
TZOFFSETTO:+0200
TZNAME:CEST
DTSTART:20250330T010000
END:DAYLIGHT
BEGIN:STANDARD
TZOFFSETFROM:+0200
TZOFFSETTO:+0100
TZNAME:CET
DTSTART:20251026T010000
END:STANDARD
BEGIN:DAYLIGHT
TZOFFSETFROM:+0100
TZOFFSETTO:+0200
TZNAME:CEST
DTSTART:20260329T010000
END:DAYLIGHT
BEGIN:STANDARD
TZOFFSETFROM:+0200
TZOFFSETTO:+0100
TZNAME:CET
DTSTART:20261025T010000
END:STANDARD
BEGIN:DAYLIGHT
TZOFFSETFROM:+0100
TZOFFSETTO:+0200
TZNAME:CEST
DTSTART:20270328T010000
END:DAYLIGHT
BEGIN:STANDARD
TZOFFSETFROM:+0200
TZOFFSETTO:+0100
TZNAME:CET
DTSTART:20271031T010000
END:STANDARD
END:VTIMEZONE
BEGIN:VEVENT
DTSTART;TZID=Europe/Madrid:20260218T120000
DTEND;TZID=Europe/Madrid:20260218T140000
DTSTAMP:20260424T022602
CREATED:20260211T115259Z
LAST-MODIFIED:20260211T115259Z
UID:26005-1771416000-1771423200@consejoconsultivodeandalucia.es
SUMMARY:Conmemoración V centenario del Consejo de Estado
DESCRIPTION:El Consejo de Estado inicia los actos conmemorativos del V Centenario de su creación. El acto inaugural tendrá lugar el 18 de febrero a las 12 horas en el Teatro Real de Madrid. \n  \n 
URL:https://consejoconsultivodeandalucia.es/event/conmemoracion-v-centenario-del-consejo-de-estado/
CATEGORIES:Actos Institucionales
END:VEVENT
BEGIN:VEVENT
DTSTART;TZID=Europe/Madrid:20260226T100000
DTEND;TZID=Europe/Madrid:20260226T140000
DTSTAMP:20260424T022602
CREATED:20260127T100203Z
LAST-MODIFIED:20260127T100203Z
UID:25931-1772100000-1772114400@consejoconsultivodeandalucia.es
SUMMARY:Comisión permanente
DESCRIPTION:
URL:https://consejoconsultivodeandalucia.es/event/comision-permanente-98/
LOCATION:Sede del Consejo Consultivo de Andalucía\, Consejo Consultivo de Andalucía\, Granada\, Granada\, 18009\, España
CATEGORIES:Comisión Permanente
END:VEVENT
BEGIN:VEVENT
DTSTART;TZID=Europe/Madrid:20260228T100000
DTEND;TZID=Europe/Madrid:20260228T150000
DTSTAMP:20260424T022602
CREATED:20260309T121313Z
LAST-MODIFIED:20260309T121313Z
UID:26068-1772272800-1772290800@consejoconsultivodeandalucia.es
SUMMARY:Actos conmemorativos 28-F
DESCRIPTION:La presidenta del Consejo Consultivo de Andalucía asiste a los actos conmemorativos del 28-F en el Parlamento de Andalucía y en el Teatro de la Maestranza\, donde se entregan las medallas de Andalucía y los títulos de hijo predilecto.
URL:https://consejoconsultivodeandalucia.es/event/actos-conmemorativos-28-f/
LOCATION:Parlamento de Andalucía
CATEGORIES:Actos Institucionales
END:VEVENT
BEGIN:VEVENT
DTSTART;TZID=Europe/Madrid:20260312T100000
DTEND;TZID=Europe/Madrid:20260312T140000
DTSTAMP:20260424T022602
CREATED:20260211T115433Z
LAST-MODIFIED:20260211T115433Z
UID:26007-1773309600-1773324000@consejoconsultivodeandalucia.es
SUMMARY:Comisión permanente
DESCRIPTION:
URL:https://consejoconsultivodeandalucia.es/event/comision-permanente-99/
CATEGORIES:Comisión Permanente
END:VEVENT
BEGIN:VEVENT
DTSTART;TZID=Europe/Madrid:20260324T093000
DTEND;TZID=Europe/Madrid:20260324T103000
DTSTAMP:20260424T022602
CREATED:20260406T094000Z
LAST-MODIFIED:20260406T094000Z
UID:26154-1774344600-1774348200@consejoconsultivodeandalucia.es
SUMMARY:Comisión permanente
DESCRIPTION:
URL:https://consejoconsultivodeandalucia.es/event/comision-permanente-101/
LOCATION:Sede del Consejo Consultivo de Andalucía\, Consejo Consultivo de Andalucía\, Granada\, Granada\, 18009\, España
CATEGORIES:Comisión Permanente
END:VEVENT
BEGIN:VEVENT
DTSTART;TZID=Europe/Madrid:20260326T100000
DTEND;TZID=Europe/Madrid:20260326T140000
DTSTAMP:20260424T022602
CREATED:20260406T093853Z
LAST-MODIFIED:20260406T093853Z
UID:26152-1774519200-1774533600@consejoconsultivodeandalucia.es
SUMMARY:Comisión permanente
DESCRIPTION:
URL:https://consejoconsultivodeandalucia.es/event/comision-permanente-100/
LOCATION:Sede del Consejo Consultivo de Andalucía\, Consejo Consultivo de Andalucía\, Granada\, Granada\, 18009\, España
CATEGORIES:Comisión Permanente
END:VEVENT
BEGIN:VEVENT
DTSTART;TZID=Europe/Madrid:20260407T200000
DTEND;TZID=Europe/Madrid:20260407T210000
DTSTAMP:20260424T022602
CREATED:20260406T095037Z
LAST-MODIFIED:20260406T095037Z
UID:26162-1775592000-1775595600@consejoconsultivodeandalucia.es
SUMMARY:Conferencia en la Real Sociedad Económica de Amigos del País de Jaén
DESCRIPTION:La presidenta del Consejo Consultivo de Andalucía\, María Jesús Gallardo Castillo\, pronunciará en la Real Sociedad Económica de Amigos del País de Jaén la conferencia La responsabilidad patrimonial sanitaria: una mirada desde el Consejo Consultivo de Andalucía.
URL:https://consejoconsultivodeandalucia.es/event/conferencia-en-la-real-sociedad-economica-de-amigos-del-pais-de-jaen/
LOCATION:Salón de actos Real Sociedad Económica de Amigos del País
CATEGORIES:Actos Institucionales
END:VEVENT
BEGIN:VEVENT
DTSTART;TZID=Europe/Madrid:20260409T100000
DTEND;TZID=Europe/Madrid:20260409T140000
DTSTAMP:20260424T022602
CREATED:20260406T094114Z
LAST-MODIFIED:20260406T094114Z
UID:26156-1775728800-1775743200@consejoconsultivodeandalucia.es
SUMMARY:Comisión permanente
DESCRIPTION:
URL:https://consejoconsultivodeandalucia.es/event/comision-permanente-102/
CATEGORIES:Comisión Permanente
END:VEVENT
BEGIN:VEVENT
DTSTART;TZID=Europe/Madrid:20260421T100000
DTEND;TZID=Europe/Madrid:20260421T140000
DTSTAMP:20260424T022602
CREATED:20260406T094258Z
LAST-MODIFIED:20260406T094258Z
UID:26158-1776765600-1776780000@consejoconsultivodeandalucia.es
SUMMARY:Comisión permanente
DESCRIPTION:
URL:https://consejoconsultivodeandalucia.es/event/comision-permanente-103/
LOCATION:Sede del Consejo Consultivo de Andalucía\, Consejo Consultivo de Andalucía\, Granada\, Granada\, 18009\, España
CATEGORIES:Comisión Permanente
END:VEVENT
BEGIN:VEVENT
DTSTART;TZID=Europe/Madrid:20260506T100000
DTEND;TZID=Europe/Madrid:20260506T140000
DTSTAMP:20260424T022602
CREATED:20260406T094345Z
LAST-MODIFIED:20260406T094345Z
UID:26160-1778061600-1778076000@consejoconsultivodeandalucia.es
SUMMARY:Comisión permanente
DESCRIPTION:
URL:https://consejoconsultivodeandalucia.es/event/comision-permanente-104/
LOCATION:Sede del Consejo Consultivo de Andalucía\, Consejo Consultivo de Andalucía\, Granada\, Granada\, 18009\, España
CATEGORIES:Comisión Permanente
END:VEVENT
END:VCALENDAR