BEGIN:VCALENDAR
VERSION:2.0
PRODID:-//Consejo Consultivo de Andalucía - ECPv6.15.20//NONSGML v1.0//EN
CALSCALE:GREGORIAN
METHOD:PUBLISH
X-WR-CALNAME:Consejo Consultivo de Andalucía
X-ORIGINAL-URL:https://consejoconsultivodeandalucia.es
X-WR-CALDESC:Eventos para Consejo Consultivo de Andalucía
REFRESH-INTERVAL;VALUE=DURATION:PT1H
X-Robots-Tag:noindex
X-PUBLISHED-TTL:PT1H
BEGIN:VTIMEZONE
TZID:Europe/Madrid
BEGIN:DAYLIGHT
TZOFFSETFROM:+0100
TZOFFSETTO:+0200
TZNAME:CEST
DTSTART:20230326T010000
END:DAYLIGHT
BEGIN:STANDARD
TZOFFSETFROM:+0200
TZOFFSETTO:+0100
TZNAME:CET
DTSTART:20231029T010000
END:STANDARD
BEGIN:DAYLIGHT
TZOFFSETFROM:+0100
TZOFFSETTO:+0200
TZNAME:CEST
DTSTART:20240331T010000
END:DAYLIGHT
BEGIN:STANDARD
TZOFFSETFROM:+0200
TZOFFSETTO:+0100
TZNAME:CET
DTSTART:20241027T010000
END:STANDARD
BEGIN:DAYLIGHT
TZOFFSETFROM:+0100
TZOFFSETTO:+0200
TZNAME:CEST
DTSTART:20250330T010000
END:DAYLIGHT
BEGIN:STANDARD
TZOFFSETFROM:+0200
TZOFFSETTO:+0100
TZNAME:CET
DTSTART:20251026T010000
END:STANDARD
END:VTIMEZONE
BEGIN:VEVENT
DTSTART;TZID=Europe/Madrid:20240304T173000
DTEND;TZID=Europe/Madrid:20240304T190000
DTSTAMP:20260426T062805
CREATED:20240318T125515Z
LAST-MODIFIED:20240318T125515Z
UID:21825-1709573400-1709578800@consejoconsultivodeandalucia.es
SUMMARY:II Jornada conmemorativa del 8M
DESCRIPTION:La presidenta del Consejo Consultivo de Andalucía\, María Jesús Gallardo\, participa en la II Jornada conmemorativa del 8M organizada por la Consejería de Justicia\, Administración Local y Función Pública que se celebra en Córdoba bajo el título ‘Mujeres que nos inspiran en la defensa de la igualdad».
URL:https://consejoconsultivodeandalucia.es/event/ii-jornada-conmemorativa-del-8m/
LOCATION:Ciudad de la Justicia de Córdoba\, Córdoba
CATEGORIES:Actos Institucionales
END:VEVENT
END:VCALENDAR