BEGIN:VCALENDAR
VERSION:2.0
PRODID:-//Consejo Consultivo de Andalucía - ECPv6.15.20//NONSGML v1.0//EN
CALSCALE:GREGORIAN
METHOD:PUBLISH
X-WR-CALNAME:Consejo Consultivo de Andalucía
X-ORIGINAL-URL:https://consejoconsultivodeandalucia.es
X-WR-CALDESC:Eventos para Consejo Consultivo de Andalucía
REFRESH-INTERVAL;VALUE=DURATION:PT1H
X-Robots-Tag:noindex
X-PUBLISHED-TTL:PT1H
BEGIN:VTIMEZONE
TZID:Europe/Madrid
BEGIN:DAYLIGHT
TZOFFSETFROM:+0100
TZOFFSETTO:+0200
TZNAME:CEST
DTSTART:20230326T010000
END:DAYLIGHT
BEGIN:STANDARD
TZOFFSETFROM:+0200
TZOFFSETTO:+0100
TZNAME:CET
DTSTART:20231029T010000
END:STANDARD
BEGIN:DAYLIGHT
TZOFFSETFROM:+0100
TZOFFSETTO:+0200
TZNAME:CEST
DTSTART:20240331T010000
END:DAYLIGHT
BEGIN:STANDARD
TZOFFSETFROM:+0200
TZOFFSETTO:+0100
TZNAME:CET
DTSTART:20241027T010000
END:STANDARD
BEGIN:DAYLIGHT
TZOFFSETFROM:+0100
TZOFFSETTO:+0200
TZNAME:CEST
DTSTART:20250330T010000
END:DAYLIGHT
BEGIN:STANDARD
TZOFFSETFROM:+0200
TZOFFSETTO:+0100
TZNAME:CET
DTSTART:20251026T010000
END:STANDARD
END:VTIMEZONE
BEGIN:VEVENT
DTSTART;TZID=Europe/Madrid:20241106T100000
DTEND;TZID=Europe/Madrid:20241106T140000
DTSTAMP:20260425T013625
CREATED:20241025T123816Z
LAST-MODIFIED:20241025T123816Z
UID:23278-1730887200-1730901600@consejoconsultivodeandalucia.es
SUMMARY:Comisión permanente
DESCRIPTION:
URL:https://consejoconsultivodeandalucia.es/event/comision-permanente-67/
LOCATION:Sede del Consejo Consultivo de Andalucía\, Consejo Consultivo de Andalucía\, Granada\, Granada\, 18009\, España
CATEGORIES:Comisión Permanente
END:VEVENT
BEGIN:VEVENT
DTSTART;TZID=Europe/Madrid:20241113T100000
DTEND;TZID=Europe/Madrid:20241113T140000
DTSTAMP:20260425T013625
CREATED:20241107T130242Z
LAST-MODIFIED:20241107T130242Z
UID:23341-1731492000-1731506400@consejoconsultivodeandalucia.es
SUMMARY:Comisión permanente
DESCRIPTION:
URL:https://consejoconsultivodeandalucia.es/event/comision-permanente-68/
LOCATION:Sede del Consejo Consultivo de Andalucía\, Consejo Consultivo de Andalucía\, Granada\, Granada\, 18009\, España
CATEGORIES:Comisión Permanente
END:VEVENT
BEGIN:VEVENT
DTSTART;TZID=Europe/Madrid:20241120T103000
DTEND;TZID=Europe/Madrid:20241120T143000
DTSTAMP:20260425T013625
CREATED:20241128T091628Z
LAST-MODIFIED:20241128T091628Z
UID:23459-1732098600-1732113000@consejoconsultivodeandalucia.es
SUMMARY:Comisión permanente
DESCRIPTION:
URL:https://consejoconsultivodeandalucia.es/event/comision-permanente-69/
LOCATION:Sede del Consejo Consultivo de Andalucía\, Consejo Consultivo de Andalucía\, Granada\, Granada\, 18009\, España
CATEGORIES:Comisión Permanente
END:VEVENT
BEGIN:VEVENT
DTSTART;TZID=Europe/Madrid:20241127T170000
DTEND;TZID=Europe/Madrid:20241127T203000
DTSTAMP:20260425T013625
CREATED:20241128T091739Z
LAST-MODIFIED:20241128T091739Z
UID:23461-1732726800-1732739400@consejoconsultivodeandalucia.es
SUMMARY:Comisión permanente
DESCRIPTION:
URL:https://consejoconsultivodeandalucia.es/event/comision-permanente-70/
LOCATION:Sede del Consejo Consultivo de Andalucía\, Consejo Consultivo de Andalucía\, Granada\, Granada\, 18009\, España
CATEGORIES:Comisión Permanente
END:VEVENT
END:VCALENDAR