BEGIN:VCALENDAR
VERSION:2.0
PRODID:-//Consejo Consultivo de Andalucía - ECPv6.15.20//NONSGML v1.0//EN
CALSCALE:GREGORIAN
METHOD:PUBLISH
X-WR-CALNAME:Consejo Consultivo de Andalucía
X-ORIGINAL-URL:https://consejoconsultivodeandalucia.es
X-WR-CALDESC:Eventos para Consejo Consultivo de Andalucía
REFRESH-INTERVAL;VALUE=DURATION:PT1H
X-Robots-Tag:noindex
X-PUBLISHED-TTL:PT1H
BEGIN:VTIMEZONE
TZID:Europe/Madrid
BEGIN:DAYLIGHT
TZOFFSETFROM:+0100
TZOFFSETTO:+0200
TZNAME:CEST
DTSTART:20230326T010000
END:DAYLIGHT
BEGIN:STANDARD
TZOFFSETFROM:+0200
TZOFFSETTO:+0100
TZNAME:CET
DTSTART:20231029T010000
END:STANDARD
BEGIN:DAYLIGHT
TZOFFSETFROM:+0100
TZOFFSETTO:+0200
TZNAME:CEST
DTSTART:20240331T010000
END:DAYLIGHT
BEGIN:STANDARD
TZOFFSETFROM:+0200
TZOFFSETTO:+0100
TZNAME:CET
DTSTART:20241027T010000
END:STANDARD
BEGIN:DAYLIGHT
TZOFFSETFROM:+0100
TZOFFSETTO:+0200
TZNAME:CEST
DTSTART:20250330T010000
END:DAYLIGHT
BEGIN:STANDARD
TZOFFSETFROM:+0200
TZOFFSETTO:+0100
TZNAME:CET
DTSTART:20251026T010000
END:STANDARD
END:VTIMEZONE
BEGIN:VEVENT
DTSTART;TZID=Europe/Madrid:20240916T200000
DTEND;TZID=Europe/Madrid:20240916T210000
DTSTAMP:20260425T055427
CREATED:20240916T113836Z
LAST-MODIFIED:20240916T113836Z
UID:23037-1726516800-1726520400@consejoconsultivodeandalucia.es
SUMMARY:Apertura del año judicial 2024-25
DESCRIPTION:La presidenta del Consejo Consultivo de Andalucía\, María Jesús Gallardo Castillo\, asiste al acto que con motivo de la apertura del año judicial se celebrará en el Palacio de la Real Chancillería.
URL:https://consejoconsultivodeandalucia.es/event/apertura-del-ano-judicial-2024-25/
LOCATION:Palacio Real Chancillería
CATEGORIES:Actos Institucionales
END:VEVENT
END:VCALENDAR